BEGIN:VCALENDAR
VERSION:2.0
PRODID:-//Kent Downs and Malling Team - ECPv6.8.2.1//NONSGML v1.0//EN
CALSCALE:GREGORIAN
METHOD:PUBLISH
X-ORIGINAL-URL:https://kentdownsmalling.church
X-WR-CALDESC:Events for Kent Downs and Malling Team
REFRESH-INTERVAL;VALUE=DURATION:PT1H
X-Robots-Tag:noindex
X-PUBLISHED-TTL:PT1H
BEGIN:VTIMEZONE
TZID:Europe/London
BEGIN:DAYLIGHT
TZOFFSETFROM:+0000
TZOFFSETTO:+0100
TZNAME:BST
DTSTART:20240331T010000
END:DAYLIGHT
BEGIN:STANDARD
TZOFFSETFROM:+0100
TZOFFSETTO:+0000
TZNAME:GMT
DTSTART:20241027T010000
END:STANDARD
BEGIN:DAYLIGHT
TZOFFSETFROM:+0000
TZOFFSETTO:+0100
TZNAME:BST
DTSTART:20250330T010000
END:DAYLIGHT
BEGIN:STANDARD
TZOFFSETFROM:+0100
TZOFFSETTO:+0000
TZNAME:GMT
DTSTART:20251026T010000
END:STANDARD
BEGIN:DAYLIGHT
TZOFFSETFROM:+0000
TZOFFSETTO:+0100
TZNAME:BST
DTSTART:20260329T010000
END:DAYLIGHT
BEGIN:STANDARD
TZOFFSETFROM:+0100
TZOFFSETTO:+0000
TZNAME:GMT
DTSTART:20261025T010000
END:STANDARD
END:VTIMEZONE
BEGIN:VEVENT
DTSTART;TZID=Europe/London:20260412T100000
DTEND;TZID=Europe/London:20260412T110000
DTSTAMP:20260423T132003
CREATED:20240229T112804Z
LAST-MODIFIED:20241122T100446Z
UID:10002023-1775988000-1775991600@kentdownsmalling.church
SUMMARY:Café Church & Children's Church (Addington)
DESCRIPTION:10.00 – Addington Village Hall – Café Church and Children’s Church
URL:https://kentdownsmalling.church/calendar/mothering-sunday-cafe-church/2026-04-12/
LOCATION:Addington Village Hall\, Park Road\, Addington\, Kent\, ME19 5BQ\, United Kingdom
CATEGORIES:Addington
ATTACH;FMTTYPE=image/jpeg:https://kentdownsmalling.church/wp-content/uploads/2024/02/R0003165.jpg
END:VEVENT
BEGIN:VEVENT
DTSTART;TZID=Europe/London:20260308T100000
DTEND;TZID=Europe/London:20260308T110000
DTSTAMP:20260423T132003
CREATED:20240229T112804Z
LAST-MODIFIED:20241122T100446Z
UID:10002022-1772964000-1772967600@kentdownsmalling.church
SUMMARY:Café Church & Children's Church (Addington)
DESCRIPTION:10.00 – Addington Village Hall – Café Church and Children’s Church
URL:https://kentdownsmalling.church/calendar/mothering-sunday-cafe-church/2026-03-08/
LOCATION:Addington Village Hall\, Park Road\, Addington\, Kent\, ME19 5BQ\, United Kingdom
CATEGORIES:Addington
ATTACH;FMTTYPE=image/jpeg:https://kentdownsmalling.church/wp-content/uploads/2024/02/R0003165.jpg
END:VEVENT
BEGIN:VEVENT
DTSTART;TZID=Europe/London:20260208T100000
DTEND;TZID=Europe/London:20260208T110000
DTSTAMP:20260423T132003
CREATED:20240229T112804Z
LAST-MODIFIED:20241122T100446Z
UID:10002021-1770544800-1770548400@kentdownsmalling.church
SUMMARY:Café Church & Children's Church (Addington)
DESCRIPTION:10.00 – Addington Village Hall – Café Church and Children’s Church
URL:https://kentdownsmalling.church/calendar/mothering-sunday-cafe-church/2026-02-08/
LOCATION:Addington Village Hall\, Park Road\, Addington\, Kent\, ME19 5BQ\, United Kingdom
CATEGORIES:Addington
ATTACH;FMTTYPE=image/jpeg:https://kentdownsmalling.church/wp-content/uploads/2024/02/R0003165.jpg
END:VEVENT
BEGIN:VEVENT
DTSTART;TZID=Europe/London:20260111T100000
DTEND;TZID=Europe/London:20260111T110000
DTSTAMP:20260423T132003
CREATED:20240229T112804Z
LAST-MODIFIED:20241122T100446Z
UID:10002020-1768125600-1768129200@kentdownsmalling.church
SUMMARY:Café Church & Children's Church (Addington)
DESCRIPTION:10.00 – Addington Village Hall – Café Church and Children’s Church
URL:https://kentdownsmalling.church/calendar/mothering-sunday-cafe-church/2026-01-11/
LOCATION:Addington Village Hall\, Park Road\, Addington\, Kent\, ME19 5BQ\, United Kingdom
CATEGORIES:Addington
ATTACH;FMTTYPE=image/jpeg:https://kentdownsmalling.church/wp-content/uploads/2024/02/R0003165.jpg
END:VEVENT
BEGIN:VEVENT
DTSTART;TZID=Europe/London:20251214T100000
DTEND;TZID=Europe/London:20251214T110000
DTSTAMP:20260423T132003
CREATED:20240229T112804Z
LAST-MODIFIED:20241122T100446Z
UID:10002019-1765706400-1765710000@kentdownsmalling.church
SUMMARY:Café Church & Children's Church (Addington)
DESCRIPTION:10.00 – Addington Village Hall – Café Church and Children’s Church
URL:https://kentdownsmalling.church/calendar/mothering-sunday-cafe-church/2025-12-14/
LOCATION:Addington Village Hall\, Park Road\, Addington\, Kent\, ME19 5BQ\, United Kingdom
CATEGORIES:Addington
ATTACH;FMTTYPE=image/jpeg:https://kentdownsmalling.church/wp-content/uploads/2024/02/R0003165.jpg
END:VEVENT
BEGIN:VEVENT
DTSTART;TZID=Europe/London:20251109T100000
DTEND;TZID=Europe/London:20251109T110000
DTSTAMP:20260423T132003
CREATED:20240229T112804Z
LAST-MODIFIED:20241122T100446Z
UID:10002018-1762682400-1762686000@kentdownsmalling.church
SUMMARY:Café Church & Children's Church (Addington)
DESCRIPTION:10.00 – Addington Village Hall – Café Church and Children’s Church
URL:https://kentdownsmalling.church/calendar/mothering-sunday-cafe-church/2025-11-09/
LOCATION:Addington Village Hall\, Park Road\, Addington\, Kent\, ME19 5BQ\, United Kingdom
CATEGORIES:Addington
ATTACH;FMTTYPE=image/jpeg:https://kentdownsmalling.church/wp-content/uploads/2024/02/R0003165.jpg
END:VEVENT
BEGIN:VEVENT
DTSTART;TZID=Europe/London:20251012T100000
DTEND;TZID=Europe/London:20251012T110000
DTSTAMP:20260423T132003
CREATED:20240229T112804Z
LAST-MODIFIED:20241122T100446Z
UID:10002017-1760263200-1760266800@kentdownsmalling.church
SUMMARY:Café Church & Children's Church (Addington)
DESCRIPTION:10.00 – Addington Village Hall – Café Church and Children’s Church
URL:https://kentdownsmalling.church/calendar/mothering-sunday-cafe-church/2025-10-12/
LOCATION:Addington Village Hall\, Park Road\, Addington\, Kent\, ME19 5BQ\, United Kingdom
CATEGORIES:Addington
ATTACH;FMTTYPE=image/jpeg:https://kentdownsmalling.church/wp-content/uploads/2024/02/R0003165.jpg
END:VEVENT
BEGIN:VEVENT
DTSTART;TZID=Europe/London:20250914T100000
DTEND;TZID=Europe/London:20250914T110000
DTSTAMP:20260423T132003
CREATED:20240229T112804Z
LAST-MODIFIED:20241122T100446Z
UID:10002016-1757844000-1757847600@kentdownsmalling.church
SUMMARY:Café Church & Children's Church (Addington)
DESCRIPTION:10.00 – Addington Village Hall – Café Church and Children’s Church
URL:https://kentdownsmalling.church/calendar/mothering-sunday-cafe-church/2025-09-14/
LOCATION:Addington Village Hall\, Park Road\, Addington\, Kent\, ME19 5BQ\, United Kingdom
CATEGORIES:Addington
ATTACH;FMTTYPE=image/jpeg:https://kentdownsmalling.church/wp-content/uploads/2024/02/R0003165.jpg
END:VEVENT
BEGIN:VEVENT
DTSTART;TZID=Europe/London:20250810T100000
DTEND;TZID=Europe/London:20250810T110000
DTSTAMP:20260423T132003
CREATED:20240229T112804Z
LAST-MODIFIED:20241122T100446Z
UID:10002015-1754820000-1754823600@kentdownsmalling.church
SUMMARY:Café Church & Children's Church (Addington)
DESCRIPTION:10.00 – Addington Village Hall – Café Church and Children’s Church
URL:https://kentdownsmalling.church/calendar/mothering-sunday-cafe-church/2025-08-10/
LOCATION:Addington Village Hall\, Park Road\, Addington\, Kent\, ME19 5BQ\, United Kingdom
CATEGORIES:Addington
ATTACH;FMTTYPE=image/jpeg:https://kentdownsmalling.church/wp-content/uploads/2024/02/R0003165.jpg
END:VEVENT
BEGIN:VEVENT
DTSTART;TZID=Europe/London:20250713T100000
DTEND;TZID=Europe/London:20250713T110000
DTSTAMP:20260423T132003
CREATED:20240229T112804Z
LAST-MODIFIED:20241122T100446Z
UID:10002014-1752400800-1752404400@kentdownsmalling.church
SUMMARY:Café Church & Children's Church (Addington)
DESCRIPTION:10.00 – Addington Village Hall – Café Church and Children’s Church
URL:https://kentdownsmalling.church/calendar/mothering-sunday-cafe-church/2025-07-13/
LOCATION:Addington Village Hall\, Park Road\, Addington\, Kent\, ME19 5BQ\, United Kingdom
CATEGORIES:Addington
ATTACH;FMTTYPE=image/jpeg:https://kentdownsmalling.church/wp-content/uploads/2024/02/R0003165.jpg
END:VEVENT
BEGIN:VEVENT
DTSTART;TZID=Europe/London:20250608T100000
DTEND;TZID=Europe/London:20250608T110000
DTSTAMP:20260423T132003
CREATED:20240229T112804Z
LAST-MODIFIED:20241122T100446Z
UID:10002013-1749376800-1749380400@kentdownsmalling.church
SUMMARY:Café Church & Children's Church (Addington)
DESCRIPTION:10.00 – Addington Village Hall – Café Church and Children’s Church
URL:https://kentdownsmalling.church/calendar/mothering-sunday-cafe-church/2025-06-08/
LOCATION:Addington Village Hall\, Park Road\, Addington\, Kent\, ME19 5BQ\, United Kingdom
CATEGORIES:Addington
ATTACH;FMTTYPE=image/jpeg:https://kentdownsmalling.church/wp-content/uploads/2024/02/R0003165.jpg
END:VEVENT
BEGIN:VEVENT
DTSTART;TZID=Europe/London:20250511T100000
DTEND;TZID=Europe/London:20250511T110000
DTSTAMP:20260423T132003
CREATED:20240229T112804Z
LAST-MODIFIED:20241122T100446Z
UID:10002012-1746957600-1746961200@kentdownsmalling.church
SUMMARY:Café Church & Children's Church (Addington)
DESCRIPTION:10.00 – Addington Village Hall – Café Church and Children’s Church
URL:https://kentdownsmalling.church/calendar/mothering-sunday-cafe-church/2025-05-11/
LOCATION:Addington Village Hall\, Park Road\, Addington\, Kent\, ME19 5BQ\, United Kingdom
CATEGORIES:Addington
ATTACH;FMTTYPE=image/jpeg:https://kentdownsmalling.church/wp-content/uploads/2024/02/R0003165.jpg
END:VEVENT
BEGIN:VEVENT
DTSTART;TZID=Europe/London:20250413T100000
DTEND;TZID=Europe/London:20250413T110000
DTSTAMP:20260423T132003
CREATED:20240229T112804Z
LAST-MODIFIED:20241122T100446Z
UID:10000203-1744538400-1744542000@kentdownsmalling.church
SUMMARY:Café Church & Children's Church (Addington)
DESCRIPTION:10.00 – Addington Village Hall – Café Church and Children’s Church
URL:https://kentdownsmalling.church/calendar/mothering-sunday-cafe-church/2025-04-13/
LOCATION:Addington Village Hall\, Park Road\, Addington\, Kent\, ME19 5BQ\, United Kingdom
CATEGORIES:Addington
ATTACH;FMTTYPE=image/jpeg:https://kentdownsmalling.church/wp-content/uploads/2024/02/R0003165.jpg
END:VEVENT
BEGIN:VEVENT
DTSTART;TZID=Europe/London:20250406T160000
DTEND;TZID=Europe/London:20250406T180000
DTSTAMP:20260423T132003
CREATED:20250129T125820Z
LAST-MODIFIED:20250129T125820Z
UID:10004023-1743955200-1743962400@kentdownsmalling.church
SUMMARY:Messy Church
DESCRIPTION:All Age craft and activities to help us explore the season of Easter. Lots of things to make and do\, followed by informal worship and a cooked meal. \nSuggested donation £1.00 per family \nThis is an event mainly for primary school children and their families. Everyone welcome but no unaccompanied children please. For more information or to let us know that you are coming please contact: \nRev Helen Burn            rector@kentdownsmalling.church \nRev Kelly Parsons          curate@kentdownsmalling.church
URL:https://kentdownsmalling.church/calendar/messy-church-2/
LOCATION:Addington Village Hall\, Park Road\, Addington\, Kent\, ME19 5BQ\, United Kingdom
CATEGORIES:Addington
END:VEVENT
BEGIN:VEVENT
DTSTART;TZID=Europe/London:20250309T100000
DTEND;TZID=Europe/London:20250309T110000
DTSTAMP:20260423T132003
CREATED:20240229T112804Z
LAST-MODIFIED:20241122T100446Z
UID:10000202-1741514400-1741518000@kentdownsmalling.church
SUMMARY:Café Church & Children's Church (Addington)
DESCRIPTION:10.00 – Addington Village Hall – Café Church and Children’s Church
URL:https://kentdownsmalling.church/calendar/mothering-sunday-cafe-church/2025-03-09/
LOCATION:Addington Village Hall\, Park Road\, Addington\, Kent\, ME19 5BQ\, United Kingdom
CATEGORIES:Addington
ATTACH;FMTTYPE=image/jpeg:https://kentdownsmalling.church/wp-content/uploads/2024/02/R0003165.jpg
END:VEVENT
BEGIN:VEVENT
DTSTART;TZID=Europe/London:20250209T100000
DTEND;TZID=Europe/London:20250209T110000
DTSTAMP:20260423T132003
CREATED:20240229T112804Z
LAST-MODIFIED:20241122T100446Z
UID:10000201-1739095200-1739098800@kentdownsmalling.church
SUMMARY:Café Church & Children's Church (Addington)
DESCRIPTION:10.00 – Addington Village Hall – Café Church and Children’s Church
URL:https://kentdownsmalling.church/calendar/mothering-sunday-cafe-church/2025-02-09/
LOCATION:Addington Village Hall\, Park Road\, Addington\, Kent\, ME19 5BQ\, United Kingdom
CATEGORIES:Addington
ATTACH;FMTTYPE=image/jpeg:https://kentdownsmalling.church/wp-content/uploads/2024/02/R0003165.jpg
END:VEVENT
BEGIN:VEVENT
DTSTART;TZID=Europe/London:20250112T100000
DTEND;TZID=Europe/London:20250112T110000
DTSTAMP:20260423T132003
CREATED:20240229T112804Z
LAST-MODIFIED:20241122T100446Z
UID:10000200-1736676000-1736679600@kentdownsmalling.church
SUMMARY:Café Church & Children's Church (Addington)
DESCRIPTION:10.00 – Addington Village Hall – Café Church and Children’s Church
URL:https://kentdownsmalling.church/calendar/mothering-sunday-cafe-church/2025-01-12/
LOCATION:Addington Village Hall\, Park Road\, Addington\, Kent\, ME19 5BQ\, United Kingdom
CATEGORIES:Addington
ATTACH;FMTTYPE=image/jpeg:https://kentdownsmalling.church/wp-content/uploads/2024/02/R0003165.jpg
END:VEVENT
BEGIN:VEVENT
DTSTART;TZID=Europe/London:20241208T100000
DTEND;TZID=Europe/London:20241208T110000
DTSTAMP:20260423T132003
CREATED:20240229T112804Z
LAST-MODIFIED:20241122T100446Z
UID:10000199-1733652000-1733655600@kentdownsmalling.church
SUMMARY:Café Church & Children's Church (Addington)
DESCRIPTION:10.00 – Addington Village Hall – Café Church and Children’s Church
URL:https://kentdownsmalling.church/calendar/mothering-sunday-cafe-church/2024-12-08/
LOCATION:Addington Village Hall\, Park Road\, Addington\, Kent\, ME19 5BQ\, United Kingdom
CATEGORIES:Addington
ATTACH;FMTTYPE=image/jpeg:https://kentdownsmalling.church/wp-content/uploads/2024/02/R0003165.jpg
END:VEVENT
BEGIN:VEVENT
DTSTART;TZID=Europe/London:20241110T105000
DTEND;TZID=Europe/London:20241110T115000
DTSTAMP:20260423T132003
CREATED:20241011T112610Z
LAST-MODIFIED:20241122T100056Z
UID:10000198-1731235800-1731239400@kentdownsmalling.church
SUMMARY:Remembrance on the Green (Addington)
DESCRIPTION:10.00 – Addington Village Hall – Café Church and Children’s Church
URL:https://kentdownsmalling.church/calendar/mothering-sunday-cafe-church-2/
LOCATION:Addington Village Hall\, Park Road\, Addington\, Kent\, ME19 5BQ\, United Kingdom
CATEGORIES:Addington
ATTACH;FMTTYPE=image/jpeg:https://kentdownsmalling.church/wp-content/uploads/2024/02/R0003165.jpg
END:VEVENT
BEGIN:VEVENT
DTSTART;TZID=Europe/London:20241013T100000
DTEND;TZID=Europe/London:20241013T110000
DTSTAMP:20260423T132003
CREATED:20240229T112804Z
LAST-MODIFIED:20241122T100446Z
UID:10000197-1728813600-1728817200@kentdownsmalling.church
SUMMARY:Café Church & Children's Church (Addington)
DESCRIPTION:10.00 – Addington Village Hall – Café Church and Children’s Church
URL:https://kentdownsmalling.church/calendar/mothering-sunday-cafe-church/2024-10-13/
LOCATION:Addington Village Hall\, Park Road\, Addington\, Kent\, ME19 5BQ\, United Kingdom
CATEGORIES:Addington
ATTACH;FMTTYPE=image/jpeg:https://kentdownsmalling.church/wp-content/uploads/2024/02/R0003165.jpg
END:VEVENT
BEGIN:VEVENT
DTSTART;TZID=Europe/London:20240908T100000
DTEND;TZID=Europe/London:20240908T110000
DTSTAMP:20260423T132003
CREATED:20240229T112804Z
LAST-MODIFIED:20241122T100446Z
UID:10000196-1725789600-1725793200@kentdownsmalling.church
SUMMARY:Café Church & Children's Church (Addington)
DESCRIPTION:10.00 – Addington Village Hall – Café Church and Children’s Church
URL:https://kentdownsmalling.church/calendar/mothering-sunday-cafe-church/2024-09-08/
LOCATION:Addington Village Hall\, Park Road\, Addington\, Kent\, ME19 5BQ\, United Kingdom
CATEGORIES:Addington
ATTACH;FMTTYPE=image/jpeg:https://kentdownsmalling.church/wp-content/uploads/2024/02/R0003165.jpg
END:VEVENT
BEGIN:VEVENT
DTSTART;TZID=Europe/London:20240811T100000
DTEND;TZID=Europe/London:20240811T110000
DTSTAMP:20260423T132003
CREATED:20240618T120107Z
LAST-MODIFIED:20250412T054156Z
UID:10000195-1723370400-1723374000@kentdownsmalling.church
SUMMARY:Café Church & Children's Church (Addington)
DESCRIPTION:10.00 – Addington Village Hall – Café Church and Children’s Church
URL:https://kentdownsmalling.church/calendar/cafe-church-childrens-church-addington/2024-08-11/2/
LOCATION:Addington Village Hall\, Park Road\, Addington\, Kent\, ME19 5BQ\, United Kingdom
CATEGORIES:Addington
ATTACH;FMTTYPE=image/jpeg:https://kentdownsmalling.church/wp-content/uploads/2024/02/R0003165.jpg
END:VEVENT
BEGIN:VEVENT
DTSTART;TZID=Europe/London:20240811T080000
DTEND;TZID=Europe/London:20240811T170000
DTSTAMP:20260423T132003
CREATED:20240618T120107Z
LAST-MODIFIED:20250412T054156Z
UID:10004039-1723363200-1723395600@kentdownsmalling.church
SUMMARY:Café Church & Children's Church (Addington)
DESCRIPTION:10.00 – Addington Village Hall – Café Church and Children’s Church
URL:https://kentdownsmalling.church/calendar/cafe-church-childrens-church-addington/2024-08-11/1/
LOCATION:Addington Village Hall\, Park Road\, Addington\, Kent\, ME19 5BQ\, United Kingdom
CATEGORIES:Addington
ATTACH;FMTTYPE=image/jpeg:https://kentdownsmalling.church/wp-content/uploads/2024/02/R0003165.jpg
END:VEVENT
BEGIN:VEVENT
DTSTART;TZID=Europe/London:20240714T100000
DTEND;TZID=Europe/London:20240714T110000
DTSTAMP:20260423T132003
CREATED:20240229T112804Z
LAST-MODIFIED:20241122T100446Z
UID:10000194-1720951200-1720954800@kentdownsmalling.church
SUMMARY:Café Church & Children's Church (Addington)
DESCRIPTION:10.00 – Addington Village Hall – Café Church and Children’s Church
URL:https://kentdownsmalling.church/calendar/mothering-sunday-cafe-church/2024-07-14/
LOCATION:Addington Village Hall\, Park Road\, Addington\, Kent\, ME19 5BQ\, United Kingdom
CATEGORIES:Addington
ATTACH;FMTTYPE=image/jpeg:https://kentdownsmalling.church/wp-content/uploads/2024/02/R0003165.jpg
END:VEVENT
BEGIN:VEVENT
DTSTART;TZID=Europe/London:20240609T100000
DTEND;TZID=Europe/London:20240609T110000
DTSTAMP:20260423T132003
CREATED:20240229T112804Z
LAST-MODIFIED:20241122T100446Z
UID:10000193-1717927200-1717930800@kentdownsmalling.church
SUMMARY:Café Church & Children's Church (Addington)
DESCRIPTION:10.00 – Addington Village Hall – Café Church and Children’s Church
URL:https://kentdownsmalling.church/calendar/mothering-sunday-cafe-church/2024-06-09/
LOCATION:Addington Village Hall\, Park Road\, Addington\, Kent\, ME19 5BQ\, United Kingdom
CATEGORIES:Addington
ATTACH;FMTTYPE=image/jpeg:https://kentdownsmalling.church/wp-content/uploads/2024/02/R0003165.jpg
END:VEVENT
BEGIN:VEVENT
DTSTART;TZID=Europe/London:20240512T100000
DTEND;TZID=Europe/London:20240512T110000
DTSTAMP:20260423T132003
CREATED:20240229T112804Z
LAST-MODIFIED:20241122T100446Z
UID:10000192-1715508000-1715511600@kentdownsmalling.church
SUMMARY:Café Church & Children's Church (Addington)
DESCRIPTION:10.00 – Addington Village Hall – Café Church and Children’s Church
URL:https://kentdownsmalling.church/calendar/mothering-sunday-cafe-church/2024-05-12/
LOCATION:Addington Village Hall\, Park Road\, Addington\, Kent\, ME19 5BQ\, United Kingdom
CATEGORIES:Addington
ATTACH;FMTTYPE=image/jpeg:https://kentdownsmalling.church/wp-content/uploads/2024/02/R0003165.jpg
END:VEVENT
END:VCALENDAR