BEGIN:VCALENDAR
VERSION:2.0
PRODID:-//Kent Downs and Malling Team - ECPv6.8.2.1//NONSGML v1.0//EN
CALSCALE:GREGORIAN
METHOD:PUBLISH
X-WR-CALNAME:Kent Downs and Malling Team
X-ORIGINAL-URL:https://kentdownsmalling.church
X-WR-CALDESC:Events for Kent Downs and Malling Team
REFRESH-INTERVAL;VALUE=DURATION:PT1H
X-Robots-Tag:noindex
X-PUBLISHED-TTL:PT1H
BEGIN:VTIMEZONE
TZID:Europe/London
BEGIN:DAYLIGHT
TZOFFSETFROM:+0000
TZOFFSETTO:+0100
TZNAME:BST
DTSTART:20250330T010000
END:DAYLIGHT
BEGIN:STANDARD
TZOFFSETFROM:+0100
TZOFFSETTO:+0000
TZNAME:GMT
DTSTART:20251026T010000
END:STANDARD
END:VTIMEZONE
BEGIN:VEVENT
DTSTART;VALUE=DATE:20250803
DTEND;VALUE=DATE:20250804
DTSTAMP:20260425T130824
CREATED:20250724T080011Z
LAST-MODIFIED:20250724T080011Z
UID:10004100-1754179200-1754265599@kentdownsmalling.church
SUMMARY:CALENDAR NOT CORRECT - SEE POST ON FRONT PAGE FOR AUGUST SERVICES
DESCRIPTION:
URL:https://kentdownsmalling.church/calendar/calendar-not-correct-see-post-on-front-page-for-august-services/
LOCATION:Kent
END:VEVENT
BEGIN:VEVENT
DTSTART;TZID=Europe/London:20250803T080000
DTEND;TZID=Europe/London:20250803T083000
DTSTAMP:20260425T130824
CREATED:20240113T181046Z
LAST-MODIFIED:20250514T085056Z
UID:10003109-1754208000-1754209800@kentdownsmalling.church
SUMMARY:BCP Holy Communion (West Malling)
DESCRIPTION:
URL:https://kentdownsmalling.church/calendar/bcp-hc1-west-malling/2025-08-03/
LOCATION:St Mary’s\, West Malling\, High Street\, West Malling\, Kent\, ME19 6NE\, United Kingdom
CATEGORIES:West Malling
ATTACH;FMTTYPE=image/jpeg:https://kentdownsmalling.church/wp-content/uploads/2024/01/wm.jpg
END:VEVENT
BEGIN:VEVENT
DTSTART;TZID=Europe/London:20250803T091500
DTEND;TZID=Europe/London:20250803T101500
DTSTAMP:20260425T130824
CREATED:20240301T142140Z
LAST-MODIFIED:20241122T101315Z
UID:10002578-1754212500-1754216100@kentdownsmalling.church
SUMMARY:All-Age Worship (Offham)
DESCRIPTION:
URL:https://kentdownsmalling.church/calendar/aa-offham/2025-08-03/
LOCATION:St Michael’s\, Offham\, Church Road\, Offham\, Kent\, ME19 5NY\, United Kingdom
CATEGORIES:Offham
ATTACH;FMTTYPE=image/jpeg:https://kentdownsmalling.church/wp-content/uploads/2024/01/offham.jpg
END:VEVENT
BEGIN:VEVENT
DTSTART;TZID=Europe/London:20250803T093000
DTEND;TZID=Europe/London:20250803T103000
DTSTAMP:20260425T130824
CREATED:20240403T130654Z
LAST-MODIFIED:20241122T101621Z
UID:10002904-1754213400-1754217000@kentdownsmalling.church
SUMMARY:Holy Communion (Ryarsh)
DESCRIPTION:
URL:https://kentdownsmalling.church/calendar/hc-ryarsh/2025-08-03/
LOCATION:St Martin’s\, Ryarsh\, Church Road\, Ryarsh\, Kent\, ME19 5LB\, United Kingdom
CATEGORIES:Ryarsh
ATTACH;FMTTYPE=image/jpeg:https://kentdownsmalling.church/wp-content/uploads/2024/01/ryarsh.jpg
END:VEVENT
BEGIN:VEVENT
DTSTART;TZID=Europe/London:20250803T100000
DTEND;TZID=Europe/London:20250803T110000
DTSTAMP:20260425T130824
CREATED:20240229T112330Z
LAST-MODIFIED:20241122T100505Z
UID:10002075-1754215200-1754218800@kentdownsmalling.church
SUMMARY:Open House Worship (Addington)
DESCRIPTION:10.00 – St Margaret Addington – Open House Worship
URL:https://kentdownsmalling.church/calendar/1584/2025-08-03/
LOCATION:St Margaret’s\, Addington\, Park Road\, Addington\, Kent\, ME19 5BQ\, United Kingdom
CATEGORIES:Addington
ATTACH;FMTTYPE=image/jpeg:https://kentdownsmalling.church/wp-content/uploads/2024/02/R0003165.jpg
END:VEVENT
BEGIN:VEVENT
DTSTART;TZID=Europe/London:20250803T100000
DTEND;TZID=Europe/London:20250803T110000
DTSTAMP:20260425T130824
CREATED:20240301T140718Z
LAST-MODIFIED:20250514T084950Z
UID:10003423-1754215200-1754218800@kentdownsmalling.church
SUMMARY:Holy Communion (West Malling)
DESCRIPTION:
URL:https://kentdownsmalling.church/calendar/hc1-west-malling/2025-08-03/
LOCATION:St Mary’s\, West Malling\, High Street\, West Malling\, Kent\, ME19 6NE\, United Kingdom
CATEGORIES:West Malling
ATTACH;FMTTYPE=image/jpeg:https://kentdownsmalling.church/wp-content/uploads/2024/01/wm.jpg
END:VEVENT
BEGIN:VEVENT
DTSTART;TZID=Europe/London:20250803T103000
DTEND;TZID=Europe/London:20250803T113000
DTSTAMP:20260425T130824
CREATED:20240113T181355Z
LAST-MODIFIED:20250514T084724Z
UID:10002280-1754217000-1754220600@kentdownsmalling.church
SUMMARY:Holy Communion (Leybourne)
DESCRIPTION:
URL:https://kentdownsmalling.church/calendar/hc1-leybourne/2025-08-03/
LOCATION:Leybourne Church\, Castle Way\, Leybourne\, Kent\, United Kingdom
CATEGORIES:Leybourne
ATTACH;FMTTYPE=image/jpeg:https://kentdownsmalling.church/wp-content/uploads/2024/01/Ley.jpg
END:VEVENT
BEGIN:VEVENT
DTSTART;TZID=Europe/London:20250803T110000
DTEND;TZID=Europe/London:20250803T120000
DTSTAMP:20260425T130824
CREATED:20240301T140932Z
LAST-MODIFIED:20241122T100716Z
UID:10002135-1754218800-1754222400@kentdownsmalling.church
SUMMARY:Holy Communion (Birling)
DESCRIPTION:
URL:https://kentdownsmalling.church/calendar/holy-communion-birling/2025-08-03/
LOCATION:All Saints\, Birling\, Bull Rd\, Birling\, Kent\, ME19 5JE\, United Kingdom
CATEGORIES:Birling
ATTACH;FMTTYPE=image/jpeg:https://kentdownsmalling.church/wp-content/uploads/2024/01/Birling.jpg
END:VEVENT
END:VCALENDAR