BEGIN:VCALENDAR
VERSION:2.0
PRODID:-//Kent Downs and Malling Team - ECPv6.8.2.1//NONSGML v1.0//EN
CALSCALE:GREGORIAN
METHOD:PUBLISH
X-WR-CALNAME:Kent Downs and Malling Team
X-ORIGINAL-URL:https://kentdownsmalling.church
X-WR-CALDESC:Events for Kent Downs and Malling Team
REFRESH-INTERVAL;VALUE=DURATION:PT1H
X-Robots-Tag:noindex
X-PUBLISHED-TTL:PT1H
BEGIN:VTIMEZONE
TZID:Europe/London
BEGIN:DAYLIGHT
TZOFFSETFROM:+0000
TZOFFSETTO:+0100
TZNAME:BST
DTSTART:20240331T010000
END:DAYLIGHT
BEGIN:STANDARD
TZOFFSETFROM:+0100
TZOFFSETTO:+0000
TZNAME:GMT
DTSTART:20241027T010000
END:STANDARD
END:VTIMEZONE
BEGIN:VEVENT
DTSTART;TZID=Europe/London:20240505T100000
DTEND;TZID=Europe/London:20240505T110000
DTSTAMP:20260424T005009
CREATED:20240301T140718Z
LAST-MODIFIED:20250514T084950Z
UID:10000222-1714903200-1714906800@kentdownsmalling.church
SUMMARY:Holy Communion (West Malling)
DESCRIPTION:
URL:https://kentdownsmalling.church/calendar/hc1-west-malling/2024-05-05/
LOCATION:St Mary’s\, West Malling\, High Street\, West Malling\, Kent\, ME19 6NE\, United Kingdom
CATEGORIES:West Malling
ATTACH;FMTTYPE=image/jpeg:https://kentdownsmalling.church/wp-content/uploads/2024/01/wm.jpg
END:VEVENT
BEGIN:VEVENT
DTSTART;TZID=Europe/London:20240505T100000
DTEND;TZID=Europe/London:20240505T110000
DTSTAMP:20260424T005009
CREATED:20240229T112330Z
LAST-MODIFIED:20241122T100505Z
UID:10000184-1714903200-1714906800@kentdownsmalling.church
SUMMARY:Open House Worship (Addington)
DESCRIPTION:10.00 – St Margaret Addington – Open House Worship
URL:https://kentdownsmalling.church/calendar/1584/2024-05-05/
LOCATION:St Margaret’s\, Addington\, Park Road\, Addington\, Kent\, ME19 5BQ\, United Kingdom
CATEGORIES:Addington
ATTACH;FMTTYPE=image/jpeg:https://kentdownsmalling.church/wp-content/uploads/2024/02/R0003165.jpg
END:VEVENT
BEGIN:VEVENT
DTSTART;TZID=Europe/London:20240505T093000
DTEND;TZID=Europe/London:20240505T103000
DTSTAMP:20260424T005009
CREATED:20240403T130654Z
LAST-MODIFIED:20241122T101621Z
UID:10000176-1714901400-1714905000@kentdownsmalling.church
SUMMARY:Holy Communion (Ryarsh)
DESCRIPTION:
URL:https://kentdownsmalling.church/calendar/hc-ryarsh/2024-05-05/
LOCATION:St Martin’s\, Ryarsh\, Church Road\, Ryarsh\, Kent\, ME19 5LB\, United Kingdom
CATEGORIES:Ryarsh
ATTACH;FMTTYPE=image/jpeg:https://kentdownsmalling.church/wp-content/uploads/2024/01/ryarsh.jpg
END:VEVENT
BEGIN:VEVENT
DTSTART;TZID=Europe/London:20240505T091500
DTEND;TZID=Europe/London:20240505T101500
DTSTAMP:20260424T005009
CREATED:20240502T120718Z
LAST-MODIFIED:20240502T122735Z
UID:10000266-1714900500-1714904100@kentdownsmalling.church
SUMMARY:APCM (Offham)
DESCRIPTION:A short service of Morning Worship will take place on Sunday the 5th of May\, followed by the business of the Annual Parochial Church Meeting. The paperwork for the meeting is provided below: \n\nAPCM Agenda\nAPCM minutes from the 2023 APCM\nSt Michael’s Annual Report for 2023
URL:https://kentdownsmalling.church/calendar/apcm-offham/
LOCATION:St Michael’s\, Offham\, Church Road\, Offham\, Kent\, ME19 5NY\, United Kingdom
CATEGORIES:Offham
END:VEVENT
BEGIN:VEVENT
DTSTART;TZID=Europe/London:20240505T080000
DTEND;TZID=Europe/London:20240505T083000
DTSTAMP:20260424T005009
CREATED:20240113T181046Z
LAST-MODIFIED:20250514T085056Z
UID:10000100-1714896000-1714897800@kentdownsmalling.church
SUMMARY:BCP Holy Communion (West Malling)
DESCRIPTION:
URL:https://kentdownsmalling.church/calendar/bcp-hc1-west-malling/2024-05-05/
LOCATION:St Mary’s\, West Malling\, High Street\, West Malling\, Kent\, ME19 6NE\, United Kingdom
CATEGORIES:West Malling
ATTACH;FMTTYPE=image/jpeg:https://kentdownsmalling.church/wp-content/uploads/2024/01/wm.jpg
END:VEVENT
BEGIN:VEVENT
DTSTART;TZID=Europe/London:20240504T190000
DTEND;TZID=Europe/London:20240504T203000
DTSTAMP:20260424T005009
CREATED:20240426T115451Z
LAST-MODIFIED:20240426T115451Z
UID:10000382-1714849200-1714854600@kentdownsmalling.church
SUMMARY:“They Shall Shine” with Vox Populi and St Mary's Choir
DESCRIPTION:On Saturday 4 May at 7pm\, Vox Populi will be hosting another concert at St Mary’s in partnership with our own church choir and Nick Castell. The concert will feature: \nRequiem by Heather Sorenson\nand\nCrux Fidelis by Sarah MacDonald. \nConductor: James Meaders\nAccompanist: Hilary Dilnot \nI was glad\, Hubert Parry\nThe King of love my Shepherd is\, Edward Bairstow\nwith\nSt Mary’s Church Choir & Choral Scholars\nand\nTreblemakers Junior Choir\nConductor: Nick Castell \nSuggested donation on the door: £15\nAll are welcome to come\, regardless of their ability to donate.
URL:https://kentdownsmalling.church/calendar/they-shall-shine-with-vox-populi-and-st-marys-choir/
LOCATION:St Mary’s\, West Malling\, High Street\, West Malling\, Kent\, ME19 6NE\, United Kingdom
CATEGORIES:West Malling
END:VEVENT
BEGIN:VEVENT
DTSTART;TZID=Europe/London:20240502T140000
DTEND;TZID=Europe/London:20240502T153000
DTSTAMP:20260424T005009
CREATED:20240305T121602Z
LAST-MODIFIED:20240430T102602Z
UID:10000036-1714658400-1714663800@kentdownsmalling.church
SUMMARY:Fellowship meeting
DESCRIPTION:May 2nd.              The Kenwood Trust                                John Shanley\nJune 6th.              The Arts Society                                     Philip Hammond\nJuly 4th.                Memories of July 4th Celebrations      Shelley Cornish\nAugust 1st             Mad   Hatters summer tea party\nSeptember 5th     Travelling Hopefully                               Revd. Canon Dr Helen Burn\nOctober 3rd          My Clay Journey                                    Michelle Huebchen\nNovember 7th      Anna Chaplaincy                                    Julia Burton Jones\nDecember 5th.     Christmas party\n\nHow quickly the year is moving forward and already our next Fellowship meeting has come round for this Thursday 2nd May at 2pm. The speaker is John Shanley from The Kenwood Trust\, a charity that offers residential rehabilitation for those with alcohol and drug addiction issues as well as follow-on resettlement accommodation to provide a safe home on the journey to recovery.
URL:https://kentdownsmalling.church/calendar/fellowship-meeting/
LOCATION:Ryarsh Church Hall\, Church Road\, Ryarsh\, Kent\, ME19 5LA\, United Kingdom
CATEGORIES:Ryarsh
END:VEVENT
BEGIN:VEVENT
DTSTART;TZID=Europe/London:20240501T093000
DTEND;TZID=Europe/London:20240501T100000
DTSTAMP:20260424T005009
CREATED:20240110T121346Z
LAST-MODIFIED:20240618T115839Z
UID:10000064-1714555800-1714557600@kentdownsmalling.church
SUMMARY:BCP Holy Communion (West Malling)
DESCRIPTION:
URL:https://kentdownsmalling.church/calendar/bcp-whc1-west-malling/2024-05-01/
LOCATION:St Mary’s\, West Malling\, High Street\, West Malling\, Kent\, ME19 6NE\, United Kingdom
CATEGORIES:West Malling
ATTACH;FMTTYPE=image/jpeg:https://kentdownsmalling.church/wp-content/uploads/2024/01/wm.jpg
END:VEVENT
BEGIN:VEVENT
DTSTART;TZID=Europe/London:20240428T103000
DTEND;TZID=Europe/London:20240428T113000
DTSTAMP:20260424T005009
CREATED:20240113T181355Z
LAST-MODIFIED:20250514T084724Z
UID:10000142-1714300200-1714303800@kentdownsmalling.church
SUMMARY:Holy Communion (Leybourne)
DESCRIPTION:
URL:https://kentdownsmalling.church/calendar/hc1-leybourne/2024-04-28/
LOCATION:Leybourne Church\, Castle Way\, Leybourne\, Kent\, United Kingdom
CATEGORIES:Leybourne
ATTACH;FMTTYPE=image/jpeg:https://kentdownsmalling.church/wp-content/uploads/2024/01/Ley.jpg
END:VEVENT
BEGIN:VEVENT
DTSTART;TZID=Europe/London:20240428T100000
DTEND;TZID=Europe/London:20240428T110000
DTSTAMP:20260424T005009
CREATED:20240405T130925Z
LAST-MODIFIED:20240412T142233Z
UID:10000059-1714298400-1714302000@kentdownsmalling.church
SUMMARY:APCM (West Malling)
DESCRIPTION:The Annual Parochial Church Meeting for West Malling takes place this year on the 28th of April.
URL:https://kentdownsmalling.church/calendar/hc4-west-malling/
LOCATION:St Mary’s\, West Malling\, High Street\, West Malling\, Kent\, ME19 6NE\, United Kingdom
CATEGORIES:West Malling
ATTACH;FMTTYPE=image/jpeg:https://kentdownsmalling.church/wp-content/uploads/2024/04/chilli-charlie-PwLnNiyGems-unsplash.jpg
END:VEVENT
BEGIN:VEVENT
DTSTART;TZID=Europe/London:20240428T093000
DTEND;TZID=Europe/London:20240428T103000
DTSTAMP:20260424T005009
CREATED:20240113T182004Z
LAST-MODIFIED:20241122T101738Z
UID:10000012-1714296600-1714300200@kentdownsmalling.church
SUMMARY:Service of the Word (Trottiscliffe)
DESCRIPTION:Service of the Word
URL:https://kentdownsmalling.church/calendar/sow-trottiscliffe/2024-04-28/
LOCATION:Trottiscliffe Church\, Church Lane\, Trottiscliffe\, Kent\, ME19 5EE\, United Kingdom
CATEGORIES:Trottiscliffe
ATTACH;FMTTYPE=image/jpeg:https://kentdownsmalling.church/wp-content/uploads/2024/01/trottiscliffe.jpg
END:VEVENT
BEGIN:VEVENT
DTSTART;TZID=Europe/London:20240428T091500
DTEND;TZID=Europe/London:20240428T101500
DTSTAMP:20260424T005009
CREATED:20240113T181129Z
LAST-MODIFIED:20250514T084220Z
UID:10003679-1714295700-1714299300@kentdownsmalling.church
SUMMARY:Holy Communion (Offham)
DESCRIPTION:
URL:https://kentdownsmalling.church/calendar/hc2-offham/2024-04-28/
LOCATION:St Michael’s\, Offham\, Church Road\, Offham\, Kent\, ME19 5NY\, United Kingdom
CATEGORIES:Offham
ATTACH;FMTTYPE=image/jpeg:https://kentdownsmalling.church/wp-content/uploads/2024/01/offham.jpg
END:VEVENT
BEGIN:VEVENT
DTSTART;TZID=Europe/London:20240424T093000
DTEND;TZID=Europe/London:20240424T100000
DTSTAMP:20260424T005009
CREATED:20240110T121346Z
LAST-MODIFIED:20240618T115839Z
UID:10000063-1713951000-1713952800@kentdownsmalling.church
SUMMARY:BCP Holy Communion (West Malling)
DESCRIPTION:
URL:https://kentdownsmalling.church/calendar/bcp-whc1-west-malling/2024-04-24/
LOCATION:St Mary’s\, West Malling\, High Street\, West Malling\, Kent\, ME19 6NE\, United Kingdom
CATEGORIES:West Malling
ATTACH;FMTTYPE=image/jpeg:https://kentdownsmalling.church/wp-content/uploads/2024/01/wm.jpg
END:VEVENT
END:VCALENDAR