BEGIN:VCALENDAR
VERSION:2.0
PRODID:-//Kent Downs and Malling Team - ECPv6.8.2.1//NONSGML v1.0//EN
CALSCALE:GREGORIAN
METHOD:PUBLISH
X-WR-CALNAME:Kent Downs and Malling Team
X-ORIGINAL-URL:https://kentdownsmalling.church
X-WR-CALDESC:Events for Kent Downs and Malling Team
REFRESH-INTERVAL;VALUE=DURATION:PT1H
X-Robots-Tag:noindex
X-PUBLISHED-TTL:PT1H
BEGIN:VTIMEZONE
TZID:Europe/London
BEGIN:DAYLIGHT
TZOFFSETFROM:+0000
TZOFFSETTO:+0100
TZNAME:BST
DTSTART:20290325T010000
END:DAYLIGHT
BEGIN:STANDARD
TZOFFSETFROM:+0100
TZOFFSETTO:+0000
TZNAME:GMT
DTSTART:20291028T010000
END:STANDARD
END:VTIMEZONE
BEGIN:VEVENT
DTSTART;TZID=Europe/London:20290311T100000
DTEND;TZID=Europe/London:20290311T110000
DTSTAMP:20260421T111825
CREATED:20240301T140718Z
LAST-MODIFIED:20250514T084950Z
UID:10004089-1867917600-1867921200@kentdownsmalling.church
SUMMARY:Holy Communion (West Malling)
DESCRIPTION:
URL:https://kentdownsmalling.church/calendar/hc1-west-malling/2029-03-11/
LOCATION:St Mary’s\, West Malling\, High Street\, West Malling\, Kent\, ME19 6NE\, United Kingdom
CATEGORIES:West Malling
ATTACH;FMTTYPE=image/jpeg:https://kentdownsmalling.church/wp-content/uploads/2024/01/wm.jpg
END:VEVENT
BEGIN:VEVENT
DTSTART;TZID=Europe/London:20290318T080000
DTEND;TZID=Europe/London:20290318T083000
DTSTAMP:20260421T111825
CREATED:20240113T181046Z
LAST-MODIFIED:20250514T085056Z
UID:10003298-1868515200-1868517000@kentdownsmalling.church
SUMMARY:BCP Holy Communion (West Malling)
DESCRIPTION:
URL:https://kentdownsmalling.church/calendar/bcp-hc1-west-malling/2029-03-18/
LOCATION:St Mary’s\, West Malling\, High Street\, West Malling\, Kent\, ME19 6NE\, United Kingdom
CATEGORIES:West Malling
ATTACH;FMTTYPE=image/jpeg:https://kentdownsmalling.church/wp-content/uploads/2024/01/wm.jpg
END:VEVENT
BEGIN:VEVENT
DTSTART;TZID=Europe/London:20290318T100000
DTEND;TZID=Europe/London:20290318T110000
DTSTAMP:20260421T111825
CREATED:20240301T140718Z
LAST-MODIFIED:20250514T084950Z
UID:10003568-1868522400-1868526000@kentdownsmalling.church
SUMMARY:Holy Communion (West Malling)
DESCRIPTION:
URL:https://kentdownsmalling.church/calendar/hc1-west-malling/2029-03-18/
LOCATION:St Mary’s\, West Malling\, High Street\, West Malling\, Kent\, ME19 6NE\, United Kingdom
CATEGORIES:West Malling
ATTACH;FMTTYPE=image/jpeg:https://kentdownsmalling.church/wp-content/uploads/2024/01/wm.jpg
END:VEVENT
BEGIN:VEVENT
DTSTART;TZID=Europe/London:20290325T080000
DTEND;TZID=Europe/London:20290325T083000
DTSTAMP:20260421T111825
CREATED:20240113T181046Z
LAST-MODIFIED:20250514T085056Z
UID:10003299-1869120000-1869121800@kentdownsmalling.church
SUMMARY:BCP Holy Communion (West Malling)
DESCRIPTION:
URL:https://kentdownsmalling.church/calendar/bcp-hc1-west-malling/2029-03-25/
LOCATION:St Mary’s\, West Malling\, High Street\, West Malling\, Kent\, ME19 6NE\, United Kingdom
CATEGORIES:West Malling
ATTACH;FMTTYPE=image/jpeg:https://kentdownsmalling.church/wp-content/uploads/2024/01/wm.jpg
END:VEVENT
BEGIN:VEVENT
DTSTART;TZID=Europe/London:20290325T100000
DTEND;TZID=Europe/London:20290325T110000
DTSTAMP:20260421T111825
CREATED:20240301T140718Z
LAST-MODIFIED:20250514T084950Z
UID:10003569-1869127200-1869130800@kentdownsmalling.church
SUMMARY:Holy Communion (West Malling)
DESCRIPTION:
URL:https://kentdownsmalling.church/calendar/hc1-west-malling/2029-03-25/
LOCATION:St Mary’s\, West Malling\, High Street\, West Malling\, Kent\, ME19 6NE\, United Kingdom
CATEGORIES:West Malling
ATTACH;FMTTYPE=image/jpeg:https://kentdownsmalling.church/wp-content/uploads/2024/01/wm.jpg
END:VEVENT
BEGIN:VEVENT
DTSTART;TZID=Europe/London:20290401T080000
DTEND;TZID=Europe/London:20290401T083000
DTSTAMP:20260421T111825
CREATED:20240113T181046Z
LAST-MODIFIED:20250514T085056Z
UID:10003300-1869724800-1869726600@kentdownsmalling.church
SUMMARY:BCP Holy Communion (West Malling)
DESCRIPTION:
URL:https://kentdownsmalling.church/calendar/bcp-hc1-west-malling/2029-04-01/
LOCATION:St Mary’s\, West Malling\, High Street\, West Malling\, Kent\, ME19 6NE\, United Kingdom
CATEGORIES:West Malling
ATTACH;FMTTYPE=image/jpeg:https://kentdownsmalling.church/wp-content/uploads/2024/01/wm.jpg
END:VEVENT
BEGIN:VEVENT
DTSTART;TZID=Europe/London:20290401T100000
DTEND;TZID=Europe/London:20290401T110000
DTSTAMP:20260421T111825
CREATED:20240301T140718Z
LAST-MODIFIED:20250514T084950Z
UID:10003570-1869732000-1869735600@kentdownsmalling.church
SUMMARY:Holy Communion (West Malling)
DESCRIPTION:
URL:https://kentdownsmalling.church/calendar/hc1-west-malling/2029-04-01/
LOCATION:St Mary’s\, West Malling\, High Street\, West Malling\, Kent\, ME19 6NE\, United Kingdom
CATEGORIES:West Malling
ATTACH;FMTTYPE=image/jpeg:https://kentdownsmalling.church/wp-content/uploads/2024/01/wm.jpg
END:VEVENT
BEGIN:VEVENT
DTSTART;TZID=Europe/London:20290408T080000
DTEND;TZID=Europe/London:20290408T083000
DTSTAMP:20260421T111825
CREATED:20240113T181046Z
LAST-MODIFIED:20250514T085056Z
UID:10003301-1870329600-1870331400@kentdownsmalling.church
SUMMARY:BCP Holy Communion (West Malling)
DESCRIPTION:
URL:https://kentdownsmalling.church/calendar/bcp-hc1-west-malling/2029-04-08/
LOCATION:St Mary’s\, West Malling\, High Street\, West Malling\, Kent\, ME19 6NE\, United Kingdom
CATEGORIES:West Malling
ATTACH;FMTTYPE=image/jpeg:https://kentdownsmalling.church/wp-content/uploads/2024/01/wm.jpg
END:VEVENT
BEGIN:VEVENT
DTSTART;TZID=Europe/London:20290408T100000
DTEND;TZID=Europe/London:20290408T110000
DTSTAMP:20260421T111825
CREATED:20240113T181217Z
LAST-MODIFIED:20241122T102054Z
UID:10003390-1870336800-1870340400@kentdownsmalling.church
SUMMARY:All-Age Worship (West Malling)
DESCRIPTION:
URL:https://kentdownsmalling.church/calendar/aa-west-malling/2029-04-08/
LOCATION:St Mary’s\, West Malling\, High Street\, West Malling\, Kent\, ME19 6NE\, United Kingdom
CATEGORIES:West Malling
ATTACH;FMTTYPE=image/jpeg:https://kentdownsmalling.church/wp-content/uploads/2024/01/wm.jpg
END:VEVENT
BEGIN:VEVENT
DTSTART;TZID=Europe/London:20290408T100000
DTEND;TZID=Europe/London:20290408T110000
DTSTAMP:20260421T111825
CREATED:20240301T140718Z
LAST-MODIFIED:20250514T084950Z
UID:10004090-1870336800-1870340400@kentdownsmalling.church
SUMMARY:Holy Communion (West Malling)
DESCRIPTION:
URL:https://kentdownsmalling.church/calendar/hc1-west-malling/2029-04-08/
LOCATION:St Mary’s\, West Malling\, High Street\, West Malling\, Kent\, ME19 6NE\, United Kingdom
CATEGORIES:West Malling
ATTACH;FMTTYPE=image/jpeg:https://kentdownsmalling.church/wp-content/uploads/2024/01/wm.jpg
END:VEVENT
BEGIN:VEVENT
DTSTART;TZID=Europe/London:20290415T080000
DTEND;TZID=Europe/London:20290415T083000
DTSTAMP:20260421T111825
CREATED:20240113T181046Z
LAST-MODIFIED:20250514T085056Z
UID:10003302-1870934400-1870936200@kentdownsmalling.church
SUMMARY:BCP Holy Communion (West Malling)
DESCRIPTION:
URL:https://kentdownsmalling.church/calendar/bcp-hc1-west-malling/2029-04-15/
LOCATION:St Mary’s\, West Malling\, High Street\, West Malling\, Kent\, ME19 6NE\, United Kingdom
CATEGORIES:West Malling
ATTACH;FMTTYPE=image/jpeg:https://kentdownsmalling.church/wp-content/uploads/2024/01/wm.jpg
END:VEVENT
BEGIN:VEVENT
DTSTART;TZID=Europe/London:20290415T100000
DTEND;TZID=Europe/London:20290415T110000
DTSTAMP:20260421T111825
CREATED:20240301T140718Z
LAST-MODIFIED:20250514T084950Z
UID:10003571-1870941600-1870945200@kentdownsmalling.church
SUMMARY:Holy Communion (West Malling)
DESCRIPTION:
URL:https://kentdownsmalling.church/calendar/hc1-west-malling/2029-04-15/
LOCATION:St Mary’s\, West Malling\, High Street\, West Malling\, Kent\, ME19 6NE\, United Kingdom
CATEGORIES:West Malling
ATTACH;FMTTYPE=image/jpeg:https://kentdownsmalling.church/wp-content/uploads/2024/01/wm.jpg
END:VEVENT
BEGIN:VEVENT
DTSTART;TZID=Europe/London:20290422T080000
DTEND;TZID=Europe/London:20290422T083000
DTSTAMP:20260421T111825
CREATED:20240113T181046Z
LAST-MODIFIED:20250514T085056Z
UID:10003303-1871539200-1871541000@kentdownsmalling.church
SUMMARY:BCP Holy Communion (West Malling)
DESCRIPTION:
URL:https://kentdownsmalling.church/calendar/bcp-hc1-west-malling/2029-04-22/
LOCATION:St Mary’s\, West Malling\, High Street\, West Malling\, Kent\, ME19 6NE\, United Kingdom
CATEGORIES:West Malling
ATTACH;FMTTYPE=image/jpeg:https://kentdownsmalling.church/wp-content/uploads/2024/01/wm.jpg
END:VEVENT
BEGIN:VEVENT
DTSTART;TZID=Europe/London:20290422T100000
DTEND;TZID=Europe/London:20290422T110000
DTSTAMP:20260421T111825
CREATED:20240301T140718Z
LAST-MODIFIED:20250514T084950Z
UID:10003572-1871546400-1871550000@kentdownsmalling.church
SUMMARY:Holy Communion (West Malling)
DESCRIPTION:
URL:https://kentdownsmalling.church/calendar/hc1-west-malling/2029-04-22/
LOCATION:St Mary’s\, West Malling\, High Street\, West Malling\, Kent\, ME19 6NE\, United Kingdom
CATEGORIES:West Malling
ATTACH;FMTTYPE=image/jpeg:https://kentdownsmalling.church/wp-content/uploads/2024/01/wm.jpg
END:VEVENT
BEGIN:VEVENT
DTSTART;TZID=Europe/London:20290429T080000
DTEND;TZID=Europe/London:20290429T083000
DTSTAMP:20260421T111825
CREATED:20240113T181046Z
LAST-MODIFIED:20250514T085056Z
UID:10003304-1872144000-1872145800@kentdownsmalling.church
SUMMARY:BCP Holy Communion (West Malling)
DESCRIPTION:
URL:https://kentdownsmalling.church/calendar/bcp-hc1-west-malling/2029-04-29/
LOCATION:St Mary’s\, West Malling\, High Street\, West Malling\, Kent\, ME19 6NE\, United Kingdom
CATEGORIES:West Malling
ATTACH;FMTTYPE=image/jpeg:https://kentdownsmalling.church/wp-content/uploads/2024/01/wm.jpg
END:VEVENT
BEGIN:VEVENT
DTSTART;TZID=Europe/London:20290429T100000
DTEND;TZID=Europe/London:20290429T110000
DTSTAMP:20260421T111825
CREATED:20240301T140718Z
LAST-MODIFIED:20250514T084950Z
UID:10003573-1872151200-1872154800@kentdownsmalling.church
SUMMARY:Holy Communion (West Malling)
DESCRIPTION:
URL:https://kentdownsmalling.church/calendar/hc1-west-malling/2029-04-29/
LOCATION:St Mary’s\, West Malling\, High Street\, West Malling\, Kent\, ME19 6NE\, United Kingdom
CATEGORIES:West Malling
ATTACH;FMTTYPE=image/jpeg:https://kentdownsmalling.church/wp-content/uploads/2024/01/wm.jpg
END:VEVENT
BEGIN:VEVENT
DTSTART;TZID=Europe/London:20290506T080000
DTEND;TZID=Europe/London:20290506T083000
DTSTAMP:20260421T111825
CREATED:20240113T181046Z
LAST-MODIFIED:20250514T085056Z
UID:10003305-1872748800-1872750600@kentdownsmalling.church
SUMMARY:BCP Holy Communion (West Malling)
DESCRIPTION:
URL:https://kentdownsmalling.church/calendar/bcp-hc1-west-malling/2029-05-06/
LOCATION:St Mary’s\, West Malling\, High Street\, West Malling\, Kent\, ME19 6NE\, United Kingdom
CATEGORIES:West Malling
ATTACH;FMTTYPE=image/jpeg:https://kentdownsmalling.church/wp-content/uploads/2024/01/wm.jpg
END:VEVENT
BEGIN:VEVENT
DTSTART;TZID=Europe/London:20290506T100000
DTEND;TZID=Europe/London:20290506T110000
DTSTAMP:20260421T111825
CREATED:20240301T140718Z
LAST-MODIFIED:20250514T084950Z
UID:10003574-1872756000-1872759600@kentdownsmalling.church
SUMMARY:Holy Communion (West Malling)
DESCRIPTION:
URL:https://kentdownsmalling.church/calendar/hc1-west-malling/2029-05-06/
LOCATION:St Mary’s\, West Malling\, High Street\, West Malling\, Kent\, ME19 6NE\, United Kingdom
CATEGORIES:West Malling
ATTACH;FMTTYPE=image/jpeg:https://kentdownsmalling.church/wp-content/uploads/2024/01/wm.jpg
END:VEVENT
BEGIN:VEVENT
DTSTART;TZID=Europe/London:20290513T080000
DTEND;TZID=Europe/London:20290513T083000
DTSTAMP:20260421T111826
CREATED:20240113T181046Z
LAST-MODIFIED:20250514T085056Z
UID:10003306-1873353600-1873355400@kentdownsmalling.church
SUMMARY:BCP Holy Communion (West Malling)
DESCRIPTION:
URL:https://kentdownsmalling.church/calendar/bcp-hc1-west-malling/2029-05-13/
LOCATION:St Mary’s\, West Malling\, High Street\, West Malling\, Kent\, ME19 6NE\, United Kingdom
CATEGORIES:West Malling
ATTACH;FMTTYPE=image/jpeg:https://kentdownsmalling.church/wp-content/uploads/2024/01/wm.jpg
END:VEVENT
BEGIN:VEVENT
DTSTART;TZID=Europe/London:20290513T100000
DTEND;TZID=Europe/London:20290513T110000
DTSTAMP:20260421T111826
CREATED:20240113T181217Z
LAST-MODIFIED:20241122T102054Z
UID:10003391-1873360800-1873364400@kentdownsmalling.church
SUMMARY:All-Age Worship (West Malling)
DESCRIPTION:
URL:https://kentdownsmalling.church/calendar/aa-west-malling/2029-05-13/
LOCATION:St Mary’s\, West Malling\, High Street\, West Malling\, Kent\, ME19 6NE\, United Kingdom
CATEGORIES:West Malling
ATTACH;FMTTYPE=image/jpeg:https://kentdownsmalling.church/wp-content/uploads/2024/01/wm.jpg
END:VEVENT
BEGIN:VEVENT
DTSTART;TZID=Europe/London:20290513T100000
DTEND;TZID=Europe/London:20290513T110000
DTSTAMP:20260421T111826
CREATED:20240301T140718Z
LAST-MODIFIED:20250514T084950Z
UID:10004091-1873360800-1873364400@kentdownsmalling.church
SUMMARY:Holy Communion (West Malling)
DESCRIPTION:
URL:https://kentdownsmalling.church/calendar/hc1-west-malling/2029-05-13/
LOCATION:St Mary’s\, West Malling\, High Street\, West Malling\, Kent\, ME19 6NE\, United Kingdom
CATEGORIES:West Malling
ATTACH;FMTTYPE=image/jpeg:https://kentdownsmalling.church/wp-content/uploads/2024/01/wm.jpg
END:VEVENT
BEGIN:VEVENT
DTSTART;TZID=Europe/London:20290520T080000
DTEND;TZID=Europe/London:20290520T083000
DTSTAMP:20260421T111826
CREATED:20240113T181046Z
LAST-MODIFIED:20250514T085056Z
UID:10003307-1873958400-1873960200@kentdownsmalling.church
SUMMARY:BCP Holy Communion (West Malling)
DESCRIPTION:
URL:https://kentdownsmalling.church/calendar/bcp-hc1-west-malling/2029-05-20/
LOCATION:St Mary’s\, West Malling\, High Street\, West Malling\, Kent\, ME19 6NE\, United Kingdom
CATEGORIES:West Malling
ATTACH;FMTTYPE=image/jpeg:https://kentdownsmalling.church/wp-content/uploads/2024/01/wm.jpg
END:VEVENT
BEGIN:VEVENT
DTSTART;TZID=Europe/London:20290520T100000
DTEND;TZID=Europe/London:20290520T110000
DTSTAMP:20260421T111826
CREATED:20240301T140718Z
LAST-MODIFIED:20250514T084950Z
UID:10003575-1873965600-1873969200@kentdownsmalling.church
SUMMARY:Holy Communion (West Malling)
DESCRIPTION:
URL:https://kentdownsmalling.church/calendar/hc1-west-malling/2029-05-20/
LOCATION:St Mary’s\, West Malling\, High Street\, West Malling\, Kent\, ME19 6NE\, United Kingdom
CATEGORIES:West Malling
ATTACH;FMTTYPE=image/jpeg:https://kentdownsmalling.church/wp-content/uploads/2024/01/wm.jpg
END:VEVENT
BEGIN:VEVENT
DTSTART;TZID=Europe/London:20290527T080000
DTEND;TZID=Europe/London:20290527T083000
DTSTAMP:20260421T111826
CREATED:20240113T181046Z
LAST-MODIFIED:20250514T085056Z
UID:10003308-1874563200-1874565000@kentdownsmalling.church
SUMMARY:BCP Holy Communion (West Malling)
DESCRIPTION:
URL:https://kentdownsmalling.church/calendar/bcp-hc1-west-malling/2029-05-27/
LOCATION:St Mary’s\, West Malling\, High Street\, West Malling\, Kent\, ME19 6NE\, United Kingdom
CATEGORIES:West Malling
ATTACH;FMTTYPE=image/jpeg:https://kentdownsmalling.church/wp-content/uploads/2024/01/wm.jpg
END:VEVENT
BEGIN:VEVENT
DTSTART;TZID=Europe/London:20290527T100000
DTEND;TZID=Europe/London:20290527T110000
DTSTAMP:20260421T111826
CREATED:20240301T140718Z
LAST-MODIFIED:20250514T084950Z
UID:10003576-1874570400-1874574000@kentdownsmalling.church
SUMMARY:Holy Communion (West Malling)
DESCRIPTION:
URL:https://kentdownsmalling.church/calendar/hc1-west-malling/2029-05-27/
LOCATION:St Mary’s\, West Malling\, High Street\, West Malling\, Kent\, ME19 6NE\, United Kingdom
CATEGORIES:West Malling
ATTACH;FMTTYPE=image/jpeg:https://kentdownsmalling.church/wp-content/uploads/2024/01/wm.jpg
END:VEVENT
BEGIN:VEVENT
DTSTART;TZID=Europe/London:20290603T080000
DTEND;TZID=Europe/London:20290603T083000
DTSTAMP:20260421T111826
CREATED:20240113T181046Z
LAST-MODIFIED:20250514T085056Z
UID:10003309-1875168000-1875169800@kentdownsmalling.church
SUMMARY:BCP Holy Communion (West Malling)
DESCRIPTION:
URL:https://kentdownsmalling.church/calendar/bcp-hc1-west-malling/2029-06-03/
LOCATION:St Mary’s\, West Malling\, High Street\, West Malling\, Kent\, ME19 6NE\, United Kingdom
CATEGORIES:West Malling
ATTACH;FMTTYPE=image/jpeg:https://kentdownsmalling.church/wp-content/uploads/2024/01/wm.jpg
END:VEVENT
BEGIN:VEVENT
DTSTART;TZID=Europe/London:20290603T100000
DTEND;TZID=Europe/London:20290603T110000
DTSTAMP:20260421T111826
CREATED:20240301T140718Z
LAST-MODIFIED:20250514T084950Z
UID:10003577-1875175200-1875178800@kentdownsmalling.church
SUMMARY:Holy Communion (West Malling)
DESCRIPTION:
URL:https://kentdownsmalling.church/calendar/hc1-west-malling/2029-06-03/
LOCATION:St Mary’s\, West Malling\, High Street\, West Malling\, Kent\, ME19 6NE\, United Kingdom
CATEGORIES:West Malling
ATTACH;FMTTYPE=image/jpeg:https://kentdownsmalling.church/wp-content/uploads/2024/01/wm.jpg
END:VEVENT
BEGIN:VEVENT
DTSTART;TZID=Europe/London:20290610T080000
DTEND;TZID=Europe/London:20290610T083000
DTSTAMP:20260421T111826
CREATED:20240113T181046Z
LAST-MODIFIED:20250514T085056Z
UID:10003310-1875772800-1875774600@kentdownsmalling.church
SUMMARY:BCP Holy Communion (West Malling)
DESCRIPTION:
URL:https://kentdownsmalling.church/calendar/bcp-hc1-west-malling/2029-06-10/
LOCATION:St Mary’s\, West Malling\, High Street\, West Malling\, Kent\, ME19 6NE\, United Kingdom
CATEGORIES:West Malling
ATTACH;FMTTYPE=image/jpeg:https://kentdownsmalling.church/wp-content/uploads/2024/01/wm.jpg
END:VEVENT
BEGIN:VEVENT
DTSTART;TZID=Europe/London:20290610T100000
DTEND;TZID=Europe/London:20290610T110000
DTSTAMP:20260421T111826
CREATED:20240113T181217Z
LAST-MODIFIED:20241122T102054Z
UID:10003392-1875780000-1875783600@kentdownsmalling.church
SUMMARY:All-Age Worship (West Malling)
DESCRIPTION:
URL:https://kentdownsmalling.church/calendar/aa-west-malling/2029-06-10/
LOCATION:St Mary’s\, West Malling\, High Street\, West Malling\, Kent\, ME19 6NE\, United Kingdom
CATEGORIES:West Malling
ATTACH;FMTTYPE=image/jpeg:https://kentdownsmalling.church/wp-content/uploads/2024/01/wm.jpg
END:VEVENT
BEGIN:VEVENT
DTSTART;TZID=Europe/London:20290610T100000
DTEND;TZID=Europe/London:20290610T110000
DTSTAMP:20260421T111826
CREATED:20240301T140718Z
LAST-MODIFIED:20250514T084950Z
UID:10004092-1875780000-1875783600@kentdownsmalling.church
SUMMARY:Holy Communion (West Malling)
DESCRIPTION:
URL:https://kentdownsmalling.church/calendar/hc1-west-malling/2029-06-10/
LOCATION:St Mary’s\, West Malling\, High Street\, West Malling\, Kent\, ME19 6NE\, United Kingdom
CATEGORIES:West Malling
ATTACH;FMTTYPE=image/jpeg:https://kentdownsmalling.church/wp-content/uploads/2024/01/wm.jpg
END:VEVENT
END:VCALENDAR