BEGIN:VCALENDAR
VERSION:2.0
PRODID:-//Kent Downs and Malling Team - ECPv6.8.2.1//NONSGML v1.0//EN
CALSCALE:GREGORIAN
METHOD:PUBLISH
X-WR-CALNAME:Kent Downs and Malling Team
X-ORIGINAL-URL:https://kentdownsmalling.church
X-WR-CALDESC:Events for Kent Downs and Malling Team
REFRESH-INTERVAL;VALUE=DURATION:PT1H
X-Robots-Tag:noindex
X-PUBLISHED-TTL:PT1H
BEGIN:VTIMEZONE
TZID:Europe/London
BEGIN:DAYLIGHT
TZOFFSETFROM:+0000
TZOFFSETTO:+0100
TZNAME:BST
DTSTART:20270328T010000
END:DAYLIGHT
BEGIN:STANDARD
TZOFFSETFROM:+0100
TZOFFSETTO:+0000
TZNAME:GMT
DTSTART:20271031T010000
END:STANDARD
END:VTIMEZONE
BEGIN:VEVENT
DTSTART;TZID=Europe/London:20270502T080000
DTEND;TZID=Europe/London:20270502T083000
DTSTAMP:20260424T074312
CREATED:20240113T181046Z
LAST-MODIFIED:20250514T085056Z
UID:10003200-1809244800-1809246600@kentdownsmalling.church
SUMMARY:BCP Holy Communion (West Malling)
DESCRIPTION:
URL:https://kentdownsmalling.church/calendar/bcp-hc1-west-malling/2027-05-02/
LOCATION:St Mary’s\, West Malling\, High Street\, West Malling\, Kent\, ME19 6NE\, United Kingdom
CATEGORIES:West Malling
ATTACH;FMTTYPE=image/jpeg:https://kentdownsmalling.church/wp-content/uploads/2024/01/wm.jpg
END:VEVENT
BEGIN:VEVENT
DTSTART;TZID=Europe/London:20270502T100000
DTEND;TZID=Europe/London:20270502T110000
DTSTAMP:20260424T074312
CREATED:20240301T140718Z
LAST-MODIFIED:20250514T084950Z
UID:10003493-1809252000-1809255600@kentdownsmalling.church
SUMMARY:Holy Communion (West Malling)
DESCRIPTION:
URL:https://kentdownsmalling.church/calendar/hc1-west-malling/2027-05-02/
LOCATION:St Mary’s\, West Malling\, High Street\, West Malling\, Kent\, ME19 6NE\, United Kingdom
CATEGORIES:West Malling
ATTACH;FMTTYPE=image/jpeg:https://kentdownsmalling.church/wp-content/uploads/2024/01/wm.jpg
END:VEVENT
BEGIN:VEVENT
DTSTART;TZID=Europe/London:20270509T080000
DTEND;TZID=Europe/London:20270509T083000
DTSTAMP:20260424T074312
CREATED:20240113T181046Z
LAST-MODIFIED:20250514T085056Z
UID:10003201-1809849600-1809851400@kentdownsmalling.church
SUMMARY:BCP Holy Communion (West Malling)
DESCRIPTION:
URL:https://kentdownsmalling.church/calendar/bcp-hc1-west-malling/2027-05-09/
LOCATION:St Mary’s\, West Malling\, High Street\, West Malling\, Kent\, ME19 6NE\, United Kingdom
CATEGORIES:West Malling
ATTACH;FMTTYPE=image/jpeg:https://kentdownsmalling.church/wp-content/uploads/2024/01/wm.jpg
END:VEVENT
BEGIN:VEVENT
DTSTART;TZID=Europe/London:20270509T100000
DTEND;TZID=Europe/London:20270509T110000
DTSTAMP:20260424T074312
CREATED:20240113T181217Z
LAST-MODIFIED:20241122T102054Z
UID:10003367-1809856800-1809860400@kentdownsmalling.church
SUMMARY:All-Age Worship (West Malling)
DESCRIPTION:
URL:https://kentdownsmalling.church/calendar/aa-west-malling/2027-05-09/
LOCATION:St Mary’s\, West Malling\, High Street\, West Malling\, Kent\, ME19 6NE\, United Kingdom
CATEGORIES:West Malling
ATTACH;FMTTYPE=image/jpeg:https://kentdownsmalling.church/wp-content/uploads/2024/01/wm.jpg
END:VEVENT
BEGIN:VEVENT
DTSTART;TZID=Europe/London:20270509T100000
DTEND;TZID=Europe/London:20270509T110000
DTSTAMP:20260424T074312
CREATED:20240301T140718Z
LAST-MODIFIED:20250514T084950Z
UID:10004067-1809856800-1809860400@kentdownsmalling.church
SUMMARY:Holy Communion (West Malling)
DESCRIPTION:
URL:https://kentdownsmalling.church/calendar/hc1-west-malling/2027-05-09/
LOCATION:St Mary’s\, West Malling\, High Street\, West Malling\, Kent\, ME19 6NE\, United Kingdom
CATEGORIES:West Malling
ATTACH;FMTTYPE=image/jpeg:https://kentdownsmalling.church/wp-content/uploads/2024/01/wm.jpg
END:VEVENT
BEGIN:VEVENT
DTSTART;TZID=Europe/London:20270516T080000
DTEND;TZID=Europe/London:20270516T083000
DTSTAMP:20260424T074313
CREATED:20240113T181046Z
LAST-MODIFIED:20250514T085056Z
UID:10003202-1810454400-1810456200@kentdownsmalling.church
SUMMARY:BCP Holy Communion (West Malling)
DESCRIPTION:
URL:https://kentdownsmalling.church/calendar/bcp-hc1-west-malling/2027-05-16/
LOCATION:St Mary’s\, West Malling\, High Street\, West Malling\, Kent\, ME19 6NE\, United Kingdom
CATEGORIES:West Malling
ATTACH;FMTTYPE=image/jpeg:https://kentdownsmalling.church/wp-content/uploads/2024/01/wm.jpg
END:VEVENT
BEGIN:VEVENT
DTSTART;TZID=Europe/London:20270516T100000
DTEND;TZID=Europe/London:20270516T110000
DTSTAMP:20260424T074313
CREATED:20240301T140718Z
LAST-MODIFIED:20250514T084950Z
UID:10003494-1810461600-1810465200@kentdownsmalling.church
SUMMARY:Holy Communion (West Malling)
DESCRIPTION:
URL:https://kentdownsmalling.church/calendar/hc1-west-malling/2027-05-16/
LOCATION:St Mary’s\, West Malling\, High Street\, West Malling\, Kent\, ME19 6NE\, United Kingdom
CATEGORIES:West Malling
ATTACH;FMTTYPE=image/jpeg:https://kentdownsmalling.church/wp-content/uploads/2024/01/wm.jpg
END:VEVENT
BEGIN:VEVENT
DTSTART;TZID=Europe/London:20270523T080000
DTEND;TZID=Europe/London:20270523T083000
DTSTAMP:20260424T074313
CREATED:20240113T181046Z
LAST-MODIFIED:20250514T085056Z
UID:10003203-1811059200-1811061000@kentdownsmalling.church
SUMMARY:BCP Holy Communion (West Malling)
DESCRIPTION:
URL:https://kentdownsmalling.church/calendar/bcp-hc1-west-malling/2027-05-23/
LOCATION:St Mary’s\, West Malling\, High Street\, West Malling\, Kent\, ME19 6NE\, United Kingdom
CATEGORIES:West Malling
ATTACH;FMTTYPE=image/jpeg:https://kentdownsmalling.church/wp-content/uploads/2024/01/wm.jpg
END:VEVENT
BEGIN:VEVENT
DTSTART;TZID=Europe/London:20270523T100000
DTEND;TZID=Europe/London:20270523T110000
DTSTAMP:20260424T074313
CREATED:20240301T140718Z
LAST-MODIFIED:20250514T084950Z
UID:10003495-1811066400-1811070000@kentdownsmalling.church
SUMMARY:Holy Communion (West Malling)
DESCRIPTION:
URL:https://kentdownsmalling.church/calendar/hc1-west-malling/2027-05-23/
LOCATION:St Mary’s\, West Malling\, High Street\, West Malling\, Kent\, ME19 6NE\, United Kingdom
CATEGORIES:West Malling
ATTACH;FMTTYPE=image/jpeg:https://kentdownsmalling.church/wp-content/uploads/2024/01/wm.jpg
END:VEVENT
BEGIN:VEVENT
DTSTART;TZID=Europe/London:20270530T080000
DTEND;TZID=Europe/London:20270530T083000
DTSTAMP:20260424T074313
CREATED:20240113T181046Z
LAST-MODIFIED:20250514T085056Z
UID:10003204-1811664000-1811665800@kentdownsmalling.church
SUMMARY:BCP Holy Communion (West Malling)
DESCRIPTION:
URL:https://kentdownsmalling.church/calendar/bcp-hc1-west-malling/2027-05-30/
LOCATION:St Mary’s\, West Malling\, High Street\, West Malling\, Kent\, ME19 6NE\, United Kingdom
CATEGORIES:West Malling
ATTACH;FMTTYPE=image/jpeg:https://kentdownsmalling.church/wp-content/uploads/2024/01/wm.jpg
END:VEVENT
BEGIN:VEVENT
DTSTART;TZID=Europe/London:20270530T100000
DTEND;TZID=Europe/London:20270530T110000
DTSTAMP:20260424T074313
CREATED:20240301T140718Z
LAST-MODIFIED:20250514T084950Z
UID:10003496-1811671200-1811674800@kentdownsmalling.church
SUMMARY:Holy Communion (West Malling)
DESCRIPTION:
URL:https://kentdownsmalling.church/calendar/hc1-west-malling/2027-05-30/
LOCATION:St Mary’s\, West Malling\, High Street\, West Malling\, Kent\, ME19 6NE\, United Kingdom
CATEGORIES:West Malling
ATTACH;FMTTYPE=image/jpeg:https://kentdownsmalling.church/wp-content/uploads/2024/01/wm.jpg
END:VEVENT
END:VCALENDAR