BEGIN:VCALENDAR
VERSION:2.0
PRODID:-//Kent Downs and Malling Team - ECPv6.8.2.1//NONSGML v1.0//EN
CALSCALE:GREGORIAN
METHOD:PUBLISH
X-WR-CALNAME:Kent Downs and Malling Team
X-ORIGINAL-URL:https://kentdownsmalling.church
X-WR-CALDESC:Events for Kent Downs and Malling Team
REFRESH-INTERVAL;VALUE=DURATION:PT1H
X-Robots-Tag:noindex
X-PUBLISHED-TTL:PT1H
BEGIN:VTIMEZONE
TZID:Europe/London
BEGIN:DAYLIGHT
TZOFFSETFROM:+0000
TZOFFSETTO:+0100
TZNAME:BST
DTSTART:20240331T010000
END:DAYLIGHT
BEGIN:STANDARD
TZOFFSETFROM:+0100
TZOFFSETTO:+0000
TZNAME:GMT
DTSTART:20241027T010000
END:STANDARD
END:VTIMEZONE
BEGIN:VEVENT
DTSTART;TZID=Europe/London:20240501T093000
DTEND;TZID=Europe/London:20240501T100000
DTSTAMP:20260421T224328
CREATED:20240110T121346Z
LAST-MODIFIED:20240618T115839Z
UID:10000064-1714555800-1714557600@kentdownsmalling.church
SUMMARY:BCP Holy Communion (West Malling)
DESCRIPTION:
URL:https://kentdownsmalling.church/calendar/bcp-whc1-west-malling/2024-05-01/
LOCATION:St Mary’s\, West Malling\, High Street\, West Malling\, Kent\, ME19 6NE\, United Kingdom
CATEGORIES:West Malling
ATTACH;FMTTYPE=image/jpeg:https://kentdownsmalling.church/wp-content/uploads/2024/01/wm.jpg
END:VEVENT
BEGIN:VEVENT
DTSTART;TZID=Europe/London:20240504T190000
DTEND;TZID=Europe/London:20240504T203000
DTSTAMP:20260421T224328
CREATED:20240426T115451Z
LAST-MODIFIED:20240426T115451Z
UID:10000382-1714849200-1714854600@kentdownsmalling.church
SUMMARY:“They Shall Shine” with Vox Populi and St Mary's Choir
DESCRIPTION:On Saturday 4 May at 7pm\, Vox Populi will be hosting another concert at St Mary’s in partnership with our own church choir and Nick Castell. The concert will feature: \nRequiem by Heather Sorenson\nand\nCrux Fidelis by Sarah MacDonald. \nConductor: James Meaders\nAccompanist: Hilary Dilnot \nI was glad\, Hubert Parry\nThe King of love my Shepherd is\, Edward Bairstow\nwith\nSt Mary’s Church Choir & Choral Scholars\nand\nTreblemakers Junior Choir\nConductor: Nick Castell \nSuggested donation on the door: £15\nAll are welcome to come\, regardless of their ability to donate.
URL:https://kentdownsmalling.church/calendar/they-shall-shine-with-vox-populi-and-st-marys-choir/
LOCATION:St Mary’s\, West Malling\, High Street\, West Malling\, Kent\, ME19 6NE\, United Kingdom
CATEGORIES:West Malling
END:VEVENT
BEGIN:VEVENT
DTSTART;TZID=Europe/London:20240505T080000
DTEND;TZID=Europe/London:20240505T083000
DTSTAMP:20260421T224328
CREATED:20240113T181046Z
LAST-MODIFIED:20250514T085056Z
UID:10000100-1714896000-1714897800@kentdownsmalling.church
SUMMARY:BCP Holy Communion (West Malling)
DESCRIPTION:
URL:https://kentdownsmalling.church/calendar/bcp-hc1-west-malling/2024-05-05/
LOCATION:St Mary’s\, West Malling\, High Street\, West Malling\, Kent\, ME19 6NE\, United Kingdom
CATEGORIES:West Malling
ATTACH;FMTTYPE=image/jpeg:https://kentdownsmalling.church/wp-content/uploads/2024/01/wm.jpg
END:VEVENT
BEGIN:VEVENT
DTSTART;TZID=Europe/London:20240505T100000
DTEND;TZID=Europe/London:20240505T110000
DTSTAMP:20260421T224328
CREATED:20240301T140718Z
LAST-MODIFIED:20250514T084950Z
UID:10000222-1714903200-1714906800@kentdownsmalling.church
SUMMARY:Holy Communion (West Malling)
DESCRIPTION:
URL:https://kentdownsmalling.church/calendar/hc1-west-malling/2024-05-05/
LOCATION:St Mary’s\, West Malling\, High Street\, West Malling\, Kent\, ME19 6NE\, United Kingdom
CATEGORIES:West Malling
ATTACH;FMTTYPE=image/jpeg:https://kentdownsmalling.church/wp-content/uploads/2024/01/wm.jpg
END:VEVENT
BEGIN:VEVENT
DTSTART;TZID=Europe/London:20240509T093000
DTEND;TZID=Europe/London:20240509T100000
DTSTAMP:20260421T224328
CREATED:20240426T114623Z
LAST-MODIFIED:20240426T114809Z
UID:10000065-1715247000-1715248800@kentdownsmalling.church
SUMMARY:Ascension Day Holy Communion (West Malling)
DESCRIPTION:The usual Wednesday service at St Mary’s will shift to Thursday the 9th of May this week in order to celebrate Ascension Day. Everyone is welcome from across the Team to come together in worship on this important day. \nThe service will be led by Rev Canon Dr Helen Burn and Rev Kelly Parsons
URL:https://kentdownsmalling.church/calendar/bcp-holy-communion-west-malling/
LOCATION:St Mary’s\, West Malling\, High Street\, West Malling\, Kent\, ME19 6NE\, United Kingdom
CATEGORIES:Addington,Birling,Leybourne,Offham,Ryarsh,Trottiscliffe,West Malling
ATTACH;FMTTYPE=image/jpeg:https://kentdownsmalling.church/wp-content/uploads/2024/01/wm.jpg
END:VEVENT
BEGIN:VEVENT
DTSTART;TZID=Europe/London:20240512T080000
DTEND;TZID=Europe/London:20240512T083000
DTSTAMP:20260421T224328
CREATED:20240113T181046Z
LAST-MODIFIED:20250514T085056Z
UID:10000101-1715500800-1715502600@kentdownsmalling.church
SUMMARY:BCP Holy Communion (West Malling)
DESCRIPTION:
URL:https://kentdownsmalling.church/calendar/bcp-hc1-west-malling/2024-05-12/
LOCATION:St Mary’s\, West Malling\, High Street\, West Malling\, Kent\, ME19 6NE\, United Kingdom
CATEGORIES:West Malling
ATTACH;FMTTYPE=image/jpeg:https://kentdownsmalling.church/wp-content/uploads/2024/01/wm.jpg
END:VEVENT
BEGIN:VEVENT
DTSTART;TZID=Europe/London:20240512T100000
DTEND;TZID=Europe/London:20240512T110000
DTSTAMP:20260421T224328
CREATED:20240113T181217Z
LAST-MODIFIED:20241122T102054Z
UID:10000248-1715508000-1715511600@kentdownsmalling.church
SUMMARY:All-Age Worship (West Malling)
DESCRIPTION:
URL:https://kentdownsmalling.church/calendar/aa-west-malling/2024-05-12/
LOCATION:St Mary’s\, West Malling\, High Street\, West Malling\, Kent\, ME19 6NE\, United Kingdom
CATEGORIES:West Malling
ATTACH;FMTTYPE=image/jpeg:https://kentdownsmalling.church/wp-content/uploads/2024/01/wm.jpg
END:VEVENT
BEGIN:VEVENT
DTSTART;TZID=Europe/London:20240515T093000
DTEND;TZID=Europe/London:20240515T100000
DTSTAMP:20260421T224328
CREATED:20240110T121346Z
LAST-MODIFIED:20240618T115839Z
UID:10000066-1715765400-1715767200@kentdownsmalling.church
SUMMARY:BCP Holy Communion (West Malling)
DESCRIPTION:
URL:https://kentdownsmalling.church/calendar/bcp-whc1-west-malling/2024-05-15/
LOCATION:St Mary’s\, West Malling\, High Street\, West Malling\, Kent\, ME19 6NE\, United Kingdom
CATEGORIES:West Malling
ATTACH;FMTTYPE=image/jpeg:https://kentdownsmalling.church/wp-content/uploads/2024/01/wm.jpg
END:VEVENT
BEGIN:VEVENT
DTSTART;TZID=Europe/London:20240519T080000
DTEND;TZID=Europe/London:20240519T083000
DTSTAMP:20260421T224328
CREATED:20240113T181046Z
LAST-MODIFIED:20250514T085056Z
UID:10000102-1716105600-1716107400@kentdownsmalling.church
SUMMARY:BCP Holy Communion (West Malling)
DESCRIPTION:
URL:https://kentdownsmalling.church/calendar/bcp-hc1-west-malling/2024-05-19/
LOCATION:St Mary’s\, West Malling\, High Street\, West Malling\, Kent\, ME19 6NE\, United Kingdom
CATEGORIES:West Malling
ATTACH;FMTTYPE=image/jpeg:https://kentdownsmalling.church/wp-content/uploads/2024/01/wm.jpg
END:VEVENT
BEGIN:VEVENT
DTSTART;TZID=Europe/London:20240519T100000
DTEND;TZID=Europe/London:20240519T110000
DTSTAMP:20260421T224328
CREATED:20240301T140718Z
LAST-MODIFIED:20250514T084950Z
UID:10000223-1716112800-1716116400@kentdownsmalling.church
SUMMARY:Holy Communion (West Malling)
DESCRIPTION:
URL:https://kentdownsmalling.church/calendar/hc1-west-malling/2024-05-19/
LOCATION:St Mary’s\, West Malling\, High Street\, West Malling\, Kent\, ME19 6NE\, United Kingdom
CATEGORIES:West Malling
ATTACH;FMTTYPE=image/jpeg:https://kentdownsmalling.church/wp-content/uploads/2024/01/wm.jpg
END:VEVENT
BEGIN:VEVENT
DTSTART;TZID=Europe/London:20240519T160000
DTEND;TZID=Europe/London:20240519T170000
DTSTAMP:20260421T224328
CREATED:20240113T182438Z
LAST-MODIFIED:20240426T115726Z
UID:10000013-1716134400-1716138000@kentdownsmalling.church
SUMMARY:Messy Church (Leybourne)
DESCRIPTION:
URL:https://kentdownsmalling.church/calendar/messy-church/
LOCATION:Leybourne Church\, Castle Way\, Leybourne\, Kent\, United Kingdom
CATEGORIES:Addington,Birling,Leybourne,Offham,Ryarsh,Trottiscliffe,West Malling
END:VEVENT
BEGIN:VEVENT
DTSTART;TZID=Europe/London:20240526T080000
DTEND;TZID=Europe/London:20240526T083000
DTSTAMP:20260421T224328
CREATED:20240113T181046Z
LAST-MODIFIED:20250514T085056Z
UID:10000103-1716710400-1716712200@kentdownsmalling.church
SUMMARY:BCP Holy Communion (West Malling)
DESCRIPTION:
URL:https://kentdownsmalling.church/calendar/bcp-hc1-west-malling/2024-05-26/
LOCATION:St Mary’s\, West Malling\, High Street\, West Malling\, Kent\, ME19 6NE\, United Kingdom
CATEGORIES:West Malling
ATTACH;FMTTYPE=image/jpeg:https://kentdownsmalling.church/wp-content/uploads/2024/01/wm.jpg
END:VEVENT
BEGIN:VEVENT
DTSTART;TZID=Europe/London:20240526T100000
DTEND;TZID=Europe/London:20240526T110000
DTSTAMP:20260421T224328
CREATED:20240301T140718Z
LAST-MODIFIED:20250514T084950Z
UID:10000224-1716717600-1716721200@kentdownsmalling.church
SUMMARY:Holy Communion (West Malling)
DESCRIPTION:
URL:https://kentdownsmalling.church/calendar/hc1-west-malling/2024-05-26/
LOCATION:St Mary’s\, West Malling\, High Street\, West Malling\, Kent\, ME19 6NE\, United Kingdom
CATEGORIES:West Malling
ATTACH;FMTTYPE=image/jpeg:https://kentdownsmalling.church/wp-content/uploads/2024/01/wm.jpg
END:VEVENT
BEGIN:VEVENT
DTSTART;TZID=Europe/London:20240529T093000
DTEND;TZID=Europe/London:20240529T100000
DTSTAMP:20260421T224328
CREATED:20240110T121346Z
LAST-MODIFIED:20240618T115839Z
UID:10000068-1716975000-1716976800@kentdownsmalling.church
SUMMARY:BCP Holy Communion (West Malling)
DESCRIPTION:
URL:https://kentdownsmalling.church/calendar/bcp-whc1-west-malling/2024-05-29/
LOCATION:St Mary’s\, West Malling\, High Street\, West Malling\, Kent\, ME19 6NE\, United Kingdom
CATEGORIES:West Malling
ATTACH;FMTTYPE=image/jpeg:https://kentdownsmalling.church/wp-content/uploads/2024/01/wm.jpg
END:VEVENT
END:VCALENDAR