BEGIN:VCALENDAR
VERSION:2.0
PRODID:-//Kent Downs and Malling Team - ECPv6.8.2.1//NONSGML v1.0//EN
CALSCALE:GREGORIAN
METHOD:PUBLISH
X-WR-CALNAME:Kent Downs and Malling Team
X-ORIGINAL-URL:https://kentdownsmalling.church
X-WR-CALDESC:Events for Kent Downs and Malling Team
REFRESH-INTERVAL;VALUE=DURATION:PT1H
X-Robots-Tag:noindex
X-PUBLISHED-TTL:PT1H
BEGIN:VTIMEZONE
TZID:Europe/London
BEGIN:DAYLIGHT
TZOFFSETFROM:+0000
TZOFFSETTO:+0100
TZNAME:BST
DTSTART:20290325T010000
END:DAYLIGHT
BEGIN:STANDARD
TZOFFSETFROM:+0100
TZOFFSETTO:+0000
TZNAME:GMT
DTSTART:20291028T010000
END:STANDARD
END:VTIMEZONE
BEGIN:VEVENT
DTSTART;TZID=Europe/London:20290225T091500
DTEND;TZID=Europe/London:20290225T101500
DTSTAMP:20260421T111835
CREATED:20240113T181129Z
LAST-MODIFIED:20250514T084220Z
UID:10003815-1866705300-1866708900@kentdownsmalling.church
SUMMARY:Holy Communion (Offham)
DESCRIPTION:
URL:https://kentdownsmalling.church/calendar/hc2-offham/2029-02-25/
LOCATION:St Michael’s\, Offham\, Church Road\, Offham\, Kent\, ME19 5NY\, United Kingdom
CATEGORIES:Offham
ATTACH;FMTTYPE=image/jpeg:https://kentdownsmalling.church/wp-content/uploads/2024/01/offham.jpg
END:VEVENT
BEGIN:VEVENT
DTSTART;TZID=Europe/London:20290304T091500
DTEND;TZID=Europe/London:20290304T101500
DTSTAMP:20260421T111835
CREATED:20240113T181129Z
LAST-MODIFIED:20250514T084220Z
UID:10004001-1867310100-1867313700@kentdownsmalling.church
SUMMARY:Holy Communion (Offham)
DESCRIPTION:
URL:https://kentdownsmalling.church/calendar/hc2-offham/2029-03-04/
LOCATION:St Michael’s\, Offham\, Church Road\, Offham\, Kent\, ME19 5NY\, United Kingdom
CATEGORIES:Offham
ATTACH;FMTTYPE=image/jpeg:https://kentdownsmalling.church/wp-content/uploads/2024/01/offham.jpg
END:VEVENT
BEGIN:VEVENT
DTSTART;TZID=Europe/London:20290304T091500
DTEND;TZID=Europe/London:20290304T101500
DTSTAMP:20260421T111835
CREATED:20240301T142140Z
LAST-MODIFIED:20241122T101315Z
UID:10002621-1867310100-1867313700@kentdownsmalling.church
SUMMARY:All-Age Worship (Offham)
DESCRIPTION:
URL:https://kentdownsmalling.church/calendar/aa-offham/2029-03-04/
LOCATION:St Michael’s\, Offham\, Church Road\, Offham\, Kent\, ME19 5NY\, United Kingdom
CATEGORIES:Offham
ATTACH;FMTTYPE=image/jpeg:https://kentdownsmalling.church/wp-content/uploads/2024/01/offham.jpg
END:VEVENT
BEGIN:VEVENT
DTSTART;TZID=Europe/London:20290311T091500
DTEND;TZID=Europe/London:20290311T101500
DTSTAMP:20260421T111835
CREATED:20240113T181129Z
LAST-MODIFIED:20250514T084220Z
UID:10003816-1867914900-1867918500@kentdownsmalling.church
SUMMARY:Holy Communion (Offham)
DESCRIPTION:
URL:https://kentdownsmalling.church/calendar/hc2-offham/2029-03-11/
LOCATION:St Michael’s\, Offham\, Church Road\, Offham\, Kent\, ME19 5NY\, United Kingdom
CATEGORIES:Offham
ATTACH;FMTTYPE=image/jpeg:https://kentdownsmalling.church/wp-content/uploads/2024/01/offham.jpg
END:VEVENT
BEGIN:VEVENT
DTSTART;TZID=Europe/London:20290318T091500
DTEND;TZID=Europe/London:20290318T101500
DTSTAMP:20260421T111835
CREATED:20240113T181129Z
LAST-MODIFIED:20250514T084220Z
UID:10004002-1868519700-1868523300@kentdownsmalling.church
SUMMARY:Holy Communion (Offham)
DESCRIPTION:
URL:https://kentdownsmalling.church/calendar/hc2-offham/2029-03-18/
LOCATION:St Michael’s\, Offham\, Church Road\, Offham\, Kent\, ME19 5NY\, United Kingdom
CATEGORIES:Offham
ATTACH;FMTTYPE=image/jpeg:https://kentdownsmalling.church/wp-content/uploads/2024/01/offham.jpg
END:VEVENT
BEGIN:VEVENT
DTSTART;TZID=Europe/London:20290318T091500
DTEND;TZID=Europe/London:20290318T101500
DTSTAMP:20260421T111835
CREATED:20241204T110015Z
LAST-MODIFIED:20241206T112028Z
UID:10003890-1868519700-1868523300@kentdownsmalling.church
SUMMARY:Morning Worship (Offham)
DESCRIPTION:
URL:https://kentdownsmalling.church/calendar/hc2-offham-2/2029-03-18/
LOCATION:St Michael’s\, Offham\, Church Road\, Offham\, Kent\, ME19 5NY\, United Kingdom
CATEGORIES:Offham
ATTACH;FMTTYPE=image/jpeg:https://kentdownsmalling.church/wp-content/uploads/2024/01/offham.jpg
END:VEVENT
BEGIN:VEVENT
DTSTART;TZID=Europe/London:20290325T091500
DTEND;TZID=Europe/London:20290325T101500
DTSTAMP:20260421T111835
CREATED:20240113T181129Z
LAST-MODIFIED:20250514T084220Z
UID:10003817-1869124500-1869128100@kentdownsmalling.church
SUMMARY:Holy Communion (Offham)
DESCRIPTION:
URL:https://kentdownsmalling.church/calendar/hc2-offham/2029-03-25/
LOCATION:St Michael’s\, Offham\, Church Road\, Offham\, Kent\, ME19 5NY\, United Kingdom
CATEGORIES:Offham
ATTACH;FMTTYPE=image/jpeg:https://kentdownsmalling.church/wp-content/uploads/2024/01/offham.jpg
END:VEVENT
BEGIN:VEVENT
DTSTART;TZID=Europe/London:20290401T091500
DTEND;TZID=Europe/London:20290401T101500
DTSTAMP:20260421T111835
CREATED:20240113T181129Z
LAST-MODIFIED:20250514T084220Z
UID:10004003-1869729300-1869732900@kentdownsmalling.church
SUMMARY:Holy Communion (Offham)
DESCRIPTION:
URL:https://kentdownsmalling.church/calendar/hc2-offham/2029-04-01/
LOCATION:St Michael’s\, Offham\, Church Road\, Offham\, Kent\, ME19 5NY\, United Kingdom
CATEGORIES:Offham
ATTACH;FMTTYPE=image/jpeg:https://kentdownsmalling.church/wp-content/uploads/2024/01/offham.jpg
END:VEVENT
BEGIN:VEVENT
DTSTART;TZID=Europe/London:20290401T091500
DTEND;TZID=Europe/London:20290401T101500
DTSTAMP:20260421T111835
CREATED:20240301T142140Z
LAST-MODIFIED:20241122T101315Z
UID:10002622-1869729300-1869732900@kentdownsmalling.church
SUMMARY:All-Age Worship (Offham)
DESCRIPTION:
URL:https://kentdownsmalling.church/calendar/aa-offham/2029-04-01/
LOCATION:St Michael’s\, Offham\, Church Road\, Offham\, Kent\, ME19 5NY\, United Kingdom
CATEGORIES:Offham
ATTACH;FMTTYPE=image/jpeg:https://kentdownsmalling.church/wp-content/uploads/2024/01/offham.jpg
END:VEVENT
BEGIN:VEVENT
DTSTART;TZID=Europe/London:20290408T091500
DTEND;TZID=Europe/London:20290408T101500
DTSTAMP:20260421T111835
CREATED:20240113T181129Z
LAST-MODIFIED:20250514T084220Z
UID:10003818-1870334100-1870337700@kentdownsmalling.church
SUMMARY:Holy Communion (Offham)
DESCRIPTION:
URL:https://kentdownsmalling.church/calendar/hc2-offham/2029-04-08/
LOCATION:St Michael’s\, Offham\, Church Road\, Offham\, Kent\, ME19 5NY\, United Kingdom
CATEGORIES:Offham
ATTACH;FMTTYPE=image/jpeg:https://kentdownsmalling.church/wp-content/uploads/2024/01/offham.jpg
END:VEVENT
BEGIN:VEVENT
DTSTART;TZID=Europe/London:20290415T091500
DTEND;TZID=Europe/London:20290415T101500
DTSTAMP:20260421T111835
CREATED:20240113T181129Z
LAST-MODIFIED:20250514T084220Z
UID:10004004-1870938900-1870942500@kentdownsmalling.church
SUMMARY:Holy Communion (Offham)
DESCRIPTION:
URL:https://kentdownsmalling.church/calendar/hc2-offham/2029-04-15/
LOCATION:St Michael’s\, Offham\, Church Road\, Offham\, Kent\, ME19 5NY\, United Kingdom
CATEGORIES:Offham
ATTACH;FMTTYPE=image/jpeg:https://kentdownsmalling.church/wp-content/uploads/2024/01/offham.jpg
END:VEVENT
BEGIN:VEVENT
DTSTART;TZID=Europe/London:20290415T091500
DTEND;TZID=Europe/London:20290415T101500
DTSTAMP:20260421T111835
CREATED:20241204T110015Z
LAST-MODIFIED:20241206T112028Z
UID:10003891-1870938900-1870942500@kentdownsmalling.church
SUMMARY:Morning Worship (Offham)
DESCRIPTION:
URL:https://kentdownsmalling.church/calendar/hc2-offham-2/2029-04-15/
LOCATION:St Michael’s\, Offham\, Church Road\, Offham\, Kent\, ME19 5NY\, United Kingdom
CATEGORIES:Offham
ATTACH;FMTTYPE=image/jpeg:https://kentdownsmalling.church/wp-content/uploads/2024/01/offham.jpg
END:VEVENT
BEGIN:VEVENT
DTSTART;TZID=Europe/London:20290422T091500
DTEND;TZID=Europe/London:20290422T101500
DTSTAMP:20260421T111835
CREATED:20240113T181129Z
LAST-MODIFIED:20250514T084220Z
UID:10003819-1871543700-1871547300@kentdownsmalling.church
SUMMARY:Holy Communion (Offham)
DESCRIPTION:
URL:https://kentdownsmalling.church/calendar/hc2-offham/2029-04-22/
LOCATION:St Michael’s\, Offham\, Church Road\, Offham\, Kent\, ME19 5NY\, United Kingdom
CATEGORIES:Offham
ATTACH;FMTTYPE=image/jpeg:https://kentdownsmalling.church/wp-content/uploads/2024/01/offham.jpg
END:VEVENT
BEGIN:VEVENT
DTSTART;TZID=Europe/London:20290429T091500
DTEND;TZID=Europe/London:20290429T101500
DTSTAMP:20260421T111835
CREATED:20240113T181129Z
LAST-MODIFIED:20250514T084220Z
UID:10003820-1872148500-1872152100@kentdownsmalling.church
SUMMARY:Holy Communion (Offham)
DESCRIPTION:
URL:https://kentdownsmalling.church/calendar/hc2-offham/2029-04-29/
LOCATION:St Michael’s\, Offham\, Church Road\, Offham\, Kent\, ME19 5NY\, United Kingdom
CATEGORIES:Offham
ATTACH;FMTTYPE=image/jpeg:https://kentdownsmalling.church/wp-content/uploads/2024/01/offham.jpg
END:VEVENT
BEGIN:VEVENT
DTSTART;TZID=Europe/London:20290506T091500
DTEND;TZID=Europe/London:20290506T101500
DTSTAMP:20260421T111835
CREATED:20240113T181129Z
LAST-MODIFIED:20250514T084220Z
UID:10004005-1872753300-1872756900@kentdownsmalling.church
SUMMARY:Holy Communion (Offham)
DESCRIPTION:
URL:https://kentdownsmalling.church/calendar/hc2-offham/2029-05-06/
LOCATION:St Michael’s\, Offham\, Church Road\, Offham\, Kent\, ME19 5NY\, United Kingdom
CATEGORIES:Offham
ATTACH;FMTTYPE=image/jpeg:https://kentdownsmalling.church/wp-content/uploads/2024/01/offham.jpg
END:VEVENT
BEGIN:VEVENT
DTSTART;TZID=Europe/London:20290506T091500
DTEND;TZID=Europe/London:20290506T101500
DTSTAMP:20260421T111835
CREATED:20240301T142140Z
LAST-MODIFIED:20241122T101315Z
UID:10002623-1872753300-1872756900@kentdownsmalling.church
SUMMARY:All-Age Worship (Offham)
DESCRIPTION:
URL:https://kentdownsmalling.church/calendar/aa-offham/2029-05-06/
LOCATION:St Michael’s\, Offham\, Church Road\, Offham\, Kent\, ME19 5NY\, United Kingdom
CATEGORIES:Offham
ATTACH;FMTTYPE=image/jpeg:https://kentdownsmalling.church/wp-content/uploads/2024/01/offham.jpg
END:VEVENT
BEGIN:VEVENT
DTSTART;TZID=Europe/London:20290513T091500
DTEND;TZID=Europe/London:20290513T101500
DTSTAMP:20260421T111835
CREATED:20240113T181129Z
LAST-MODIFIED:20250514T084220Z
UID:10003821-1873358100-1873361700@kentdownsmalling.church
SUMMARY:Holy Communion (Offham)
DESCRIPTION:
URL:https://kentdownsmalling.church/calendar/hc2-offham/2029-05-13/
LOCATION:St Michael’s\, Offham\, Church Road\, Offham\, Kent\, ME19 5NY\, United Kingdom
CATEGORIES:Offham
ATTACH;FMTTYPE=image/jpeg:https://kentdownsmalling.church/wp-content/uploads/2024/01/offham.jpg
END:VEVENT
BEGIN:VEVENT
DTSTART;TZID=Europe/London:20290520T091500
DTEND;TZID=Europe/London:20290520T101500
DTSTAMP:20260421T111835
CREATED:20240113T181129Z
LAST-MODIFIED:20250514T084220Z
UID:10004006-1873962900-1873966500@kentdownsmalling.church
SUMMARY:Holy Communion (Offham)
DESCRIPTION:
URL:https://kentdownsmalling.church/calendar/hc2-offham/2029-05-20/
LOCATION:St Michael’s\, Offham\, Church Road\, Offham\, Kent\, ME19 5NY\, United Kingdom
CATEGORIES:Offham
ATTACH;FMTTYPE=image/jpeg:https://kentdownsmalling.church/wp-content/uploads/2024/01/offham.jpg
END:VEVENT
BEGIN:VEVENT
DTSTART;TZID=Europe/London:20290520T091500
DTEND;TZID=Europe/London:20290520T101500
DTSTAMP:20260421T111835
CREATED:20241204T110015Z
LAST-MODIFIED:20241206T112028Z
UID:10003892-1873962900-1873966500@kentdownsmalling.church
SUMMARY:Morning Worship (Offham)
DESCRIPTION:
URL:https://kentdownsmalling.church/calendar/hc2-offham-2/2029-05-20/
LOCATION:St Michael’s\, Offham\, Church Road\, Offham\, Kent\, ME19 5NY\, United Kingdom
CATEGORIES:Offham
ATTACH;FMTTYPE=image/jpeg:https://kentdownsmalling.church/wp-content/uploads/2024/01/offham.jpg
END:VEVENT
BEGIN:VEVENT
DTSTART;TZID=Europe/London:20290527T091500
DTEND;TZID=Europe/London:20290527T101500
DTSTAMP:20260421T111835
CREATED:20240113T181129Z
LAST-MODIFIED:20250514T084220Z
UID:10003822-1874567700-1874571300@kentdownsmalling.church
SUMMARY:Holy Communion (Offham)
DESCRIPTION:
URL:https://kentdownsmalling.church/calendar/hc2-offham/2029-05-27/
LOCATION:St Michael’s\, Offham\, Church Road\, Offham\, Kent\, ME19 5NY\, United Kingdom
CATEGORIES:Offham
ATTACH;FMTTYPE=image/jpeg:https://kentdownsmalling.church/wp-content/uploads/2024/01/offham.jpg
END:VEVENT
BEGIN:VEVENT
DTSTART;TZID=Europe/London:20290603T091500
DTEND;TZID=Europe/London:20290603T101500
DTSTAMP:20260421T111835
CREATED:20240113T181129Z
LAST-MODIFIED:20250514T084220Z
UID:10004007-1875172500-1875176100@kentdownsmalling.church
SUMMARY:Holy Communion (Offham)
DESCRIPTION:
URL:https://kentdownsmalling.church/calendar/hc2-offham/2029-06-03/
LOCATION:St Michael’s\, Offham\, Church Road\, Offham\, Kent\, ME19 5NY\, United Kingdom
CATEGORIES:Offham
ATTACH;FMTTYPE=image/jpeg:https://kentdownsmalling.church/wp-content/uploads/2024/01/offham.jpg
END:VEVENT
BEGIN:VEVENT
DTSTART;TZID=Europe/London:20290603T091500
DTEND;TZID=Europe/London:20290603T101500
DTSTAMP:20260421T111835
CREATED:20240301T142140Z
LAST-MODIFIED:20241122T101315Z
UID:10002624-1875172500-1875176100@kentdownsmalling.church
SUMMARY:All-Age Worship (Offham)
DESCRIPTION:
URL:https://kentdownsmalling.church/calendar/aa-offham/2029-06-03/
LOCATION:St Michael’s\, Offham\, Church Road\, Offham\, Kent\, ME19 5NY\, United Kingdom
CATEGORIES:Offham
ATTACH;FMTTYPE=image/jpeg:https://kentdownsmalling.church/wp-content/uploads/2024/01/offham.jpg
END:VEVENT
BEGIN:VEVENT
DTSTART;TZID=Europe/London:20290610T091500
DTEND;TZID=Europe/London:20290610T101500
DTSTAMP:20260421T111835
CREATED:20240113T181129Z
LAST-MODIFIED:20250514T084220Z
UID:10003823-1875777300-1875780900@kentdownsmalling.church
SUMMARY:Holy Communion (Offham)
DESCRIPTION:
URL:https://kentdownsmalling.church/calendar/hc2-offham/2029-06-10/
LOCATION:St Michael’s\, Offham\, Church Road\, Offham\, Kent\, ME19 5NY\, United Kingdom
CATEGORIES:Offham
ATTACH;FMTTYPE=image/jpeg:https://kentdownsmalling.church/wp-content/uploads/2024/01/offham.jpg
END:VEVENT
BEGIN:VEVENT
DTSTART;TZID=Europe/London:20290617T091500
DTEND;TZID=Europe/London:20290617T101500
DTSTAMP:20260421T111835
CREATED:20240113T181129Z
LAST-MODIFIED:20250514T084220Z
UID:10004008-1876382100-1876385700@kentdownsmalling.church
SUMMARY:Holy Communion (Offham)
DESCRIPTION:
URL:https://kentdownsmalling.church/calendar/hc2-offham/2029-06-17/
LOCATION:St Michael’s\, Offham\, Church Road\, Offham\, Kent\, ME19 5NY\, United Kingdom
CATEGORIES:Offham
ATTACH;FMTTYPE=image/jpeg:https://kentdownsmalling.church/wp-content/uploads/2024/01/offham.jpg
END:VEVENT
BEGIN:VEVENT
DTSTART;TZID=Europe/London:20290617T091500
DTEND;TZID=Europe/London:20290617T101500
DTSTAMP:20260421T111835
CREATED:20241204T110015Z
LAST-MODIFIED:20241206T112028Z
UID:10003893-1876382100-1876385700@kentdownsmalling.church
SUMMARY:Morning Worship (Offham)
DESCRIPTION:
URL:https://kentdownsmalling.church/calendar/hc2-offham-2/2029-06-17/
LOCATION:St Michael’s\, Offham\, Church Road\, Offham\, Kent\, ME19 5NY\, United Kingdom
CATEGORIES:Offham
ATTACH;FMTTYPE=image/jpeg:https://kentdownsmalling.church/wp-content/uploads/2024/01/offham.jpg
END:VEVENT
BEGIN:VEVENT
DTSTART;TZID=Europe/London:20290624T091500
DTEND;TZID=Europe/London:20290624T101500
DTSTAMP:20260421T111835
CREATED:20240113T181129Z
LAST-MODIFIED:20250514T084220Z
UID:10003824-1876986900-1876990500@kentdownsmalling.church
SUMMARY:Holy Communion (Offham)
DESCRIPTION:
URL:https://kentdownsmalling.church/calendar/hc2-offham/2029-06-24/
LOCATION:St Michael’s\, Offham\, Church Road\, Offham\, Kent\, ME19 5NY\, United Kingdom
CATEGORIES:Offham
ATTACH;FMTTYPE=image/jpeg:https://kentdownsmalling.church/wp-content/uploads/2024/01/offham.jpg
END:VEVENT
BEGIN:VEVENT
DTSTART;TZID=Europe/London:20290701T091500
DTEND;TZID=Europe/London:20290701T101500
DTSTAMP:20260421T111835
CREATED:20240113T181129Z
LAST-MODIFIED:20250514T084220Z
UID:10004009-1877591700-1877595300@kentdownsmalling.church
SUMMARY:Holy Communion (Offham)
DESCRIPTION:
URL:https://kentdownsmalling.church/calendar/hc2-offham/2029-07-01/
LOCATION:St Michael’s\, Offham\, Church Road\, Offham\, Kent\, ME19 5NY\, United Kingdom
CATEGORIES:Offham
ATTACH;FMTTYPE=image/jpeg:https://kentdownsmalling.church/wp-content/uploads/2024/01/offham.jpg
END:VEVENT
BEGIN:VEVENT
DTSTART;TZID=Europe/London:20290701T091500
DTEND;TZID=Europe/London:20290701T101500
DTSTAMP:20260421T111835
CREATED:20240301T142140Z
LAST-MODIFIED:20241122T101315Z
UID:10002625-1877591700-1877595300@kentdownsmalling.church
SUMMARY:All-Age Worship (Offham)
DESCRIPTION:
URL:https://kentdownsmalling.church/calendar/aa-offham/2029-07-01/
LOCATION:St Michael’s\, Offham\, Church Road\, Offham\, Kent\, ME19 5NY\, United Kingdom
CATEGORIES:Offham
ATTACH;FMTTYPE=image/jpeg:https://kentdownsmalling.church/wp-content/uploads/2024/01/offham.jpg
END:VEVENT
BEGIN:VEVENT
DTSTART;TZID=Europe/London:20290708T091500
DTEND;TZID=Europe/London:20290708T101500
DTSTAMP:20260421T111835
CREATED:20240113T181129Z
LAST-MODIFIED:20250514T084220Z
UID:10003825-1878196500-1878200100@kentdownsmalling.church
SUMMARY:Holy Communion (Offham)
DESCRIPTION:
URL:https://kentdownsmalling.church/calendar/hc2-offham/2029-07-08/
LOCATION:St Michael’s\, Offham\, Church Road\, Offham\, Kent\, ME19 5NY\, United Kingdom
CATEGORIES:Offham
ATTACH;FMTTYPE=image/jpeg:https://kentdownsmalling.church/wp-content/uploads/2024/01/offham.jpg
END:VEVENT
BEGIN:VEVENT
DTSTART;TZID=Europe/London:20290715T091500
DTEND;TZID=Europe/London:20290715T101500
DTSTAMP:20260421T111835
CREATED:20240113T181129Z
LAST-MODIFIED:20250514T084220Z
UID:10004010-1878801300-1878804900@kentdownsmalling.church
SUMMARY:Holy Communion (Offham)
DESCRIPTION:
URL:https://kentdownsmalling.church/calendar/hc2-offham/2029-07-15/
LOCATION:St Michael’s\, Offham\, Church Road\, Offham\, Kent\, ME19 5NY\, United Kingdom
CATEGORIES:Offham
ATTACH;FMTTYPE=image/jpeg:https://kentdownsmalling.church/wp-content/uploads/2024/01/offham.jpg
END:VEVENT
END:VCALENDAR