BEGIN:VCALENDAR
VERSION:2.0
PRODID:-//Kent Downs and Malling Team - ECPv6.8.2.1//NONSGML v1.0//EN
CALSCALE:GREGORIAN
METHOD:PUBLISH
X-WR-CALNAME:Kent Downs and Malling Team
X-ORIGINAL-URL:https://kentdownsmalling.church
X-WR-CALDESC:Events for Kent Downs and Malling Team
REFRESH-INTERVAL;VALUE=DURATION:PT1H
X-Robots-Tag:noindex
X-PUBLISHED-TTL:PT1H
BEGIN:VTIMEZONE
TZID:Europe/London
BEGIN:DAYLIGHT
TZOFFSETFROM:+0000
TZOFFSETTO:+0100
TZNAME:BST
DTSTART:20240331T010000
END:DAYLIGHT
BEGIN:STANDARD
TZOFFSETFROM:+0100
TZOFFSETTO:+0000
TZNAME:GMT
DTSTART:20241027T010000
END:STANDARD
END:VTIMEZONE
BEGIN:VEVENT
DTSTART;TZID=Europe/London:20241006T110000
DTEND;TZID=Europe/London:20241006T120000
DTSTAMP:20260424T041510
CREATED:20240301T140932Z
LAST-MODIFIED:20241122T100716Z
UID:10000261-1728212400-1728216000@kentdownsmalling.church
SUMMARY:Holy Communion (Birling)
DESCRIPTION:
URL:https://kentdownsmalling.church/calendar/holy-communion-birling/2024-10-06/
LOCATION:All Saints\, Birling\, Bull Rd\, Birling\, Kent\, ME19 5JE\, United Kingdom
CATEGORIES:Birling
ATTACH;FMTTYPE=image/jpeg:https://kentdownsmalling.church/wp-content/uploads/2024/01/Birling.jpg
END:VEVENT
BEGIN:VEVENT
DTSTART;TZID=Europe/London:20241020T110000
DTEND;TZID=Europe/London:20241020T120000
DTSTAMP:20260424T041510
CREATED:20240113T181504Z
LAST-MODIFIED:20241127T120329Z
UID:10000363-1729422000-1729425600@kentdownsmalling.church
SUMMARY:Family Service (Birling)
DESCRIPTION:Family Service
URL:https://kentdownsmalling.church/calendar/family-service-birling/2024-10-20/
LOCATION:All Saints\, Birling\, Bull Rd\, Birling\, Kent\, ME19 5JE\, United Kingdom
CATEGORIES:Birling
ATTACH;FMTTYPE=image/jpeg:https://kentdownsmalling.church/wp-content/uploads/2024/01/Birling.jpg
END:VEVENT
END:VCALENDAR