BEGIN:VCALENDAR
VERSION:2.0
PRODID:-//Kent Downs and Malling Team - ECPv6.8.2.1//NONSGML v1.0//EN
CALSCALE:GREGORIAN
METHOD:PUBLISH
X-ORIGINAL-URL:https://kentdownsmalling.church
X-WR-CALDESC:Events for Kent Downs and Malling Team
REFRESH-INTERVAL;VALUE=DURATION:PT1H
X-Robots-Tag:noindex
X-PUBLISHED-TTL:PT1H
BEGIN:VTIMEZONE
TZID:Europe/London
BEGIN:DAYLIGHT
TZOFFSETFROM:+0000
TZOFFSETTO:+0100
TZNAME:BST
DTSTART:20250330T010000
END:DAYLIGHT
BEGIN:STANDARD
TZOFFSETFROM:+0100
TZOFFSETTO:+0000
TZNAME:GMT
DTSTART:20251026T010000
END:STANDARD
END:VTIMEZONE
BEGIN:VEVENT
DTSTART;TZID=Europe/London:20251207T100000
DTEND;TZID=Europe/London:20251207T110000
DTSTAMP:20260421T181532
CREATED:20240229T112330Z
LAST-MODIFIED:20241122T100505Z
UID:10002079-1765101600-1765105200@kentdownsmalling.church
SUMMARY:Open House Worship (Addington)
DESCRIPTION:10.00 – St Margaret Addington – Open House Worship
URL:https://kentdownsmalling.church/calendar/1584/2025-12-07/
LOCATION:St Margaret’s\, Addington\, Park Road\, Addington\, Kent\, ME19 5BQ\, United Kingdom
CATEGORIES:Addington
ATTACH;FMTTYPE=image/jpeg:https://kentdownsmalling.church/wp-content/uploads/2024/02/R0003165.jpg
END:VEVENT
BEGIN:VEVENT
DTSTART;TZID=Europe/London:20251214T100000
DTEND;TZID=Europe/London:20251214T110000
DTSTAMP:20260421T181532
CREATED:20240229T112804Z
LAST-MODIFIED:20241122T100446Z
UID:10002019-1765706400-1765710000@kentdownsmalling.church
SUMMARY:Café Church & Children's Church (Addington)
DESCRIPTION:10.00 – Addington Village Hall – Café Church and Children’s Church
URL:https://kentdownsmalling.church/calendar/mothering-sunday-cafe-church/2025-12-14/
LOCATION:Addington Village Hall\, Park Road\, Addington\, Kent\, ME19 5BQ\, United Kingdom
CATEGORIES:Addington
ATTACH;FMTTYPE=image/jpeg:https://kentdownsmalling.church/wp-content/uploads/2024/02/R0003165.jpg
END:VEVENT
BEGIN:VEVENT
DTSTART;TZID=Europe/London:20251221T100000
DTEND;TZID=Europe/London:20251221T110000
DTSTAMP:20260421T181532
CREATED:20240229T113449Z
LAST-MODIFIED:20241122T100403Z
UID:10001963-1766311200-1766314800@kentdownsmalling.church
SUMMARY:Open House Worship and Children’s Church (Addington)
DESCRIPTION:10.00 – St Margaret Addington – Open House Worship and Children’s Church
URL:https://kentdownsmalling.church/calendar/open-house-worship-and-childrens-church-with-pete-wilson/2025-12-21/
LOCATION:St Margaret’s\, Addington\, Park Road\, Addington\, Kent\, ME19 5BQ\, United Kingdom
CATEGORIES:Addington
ATTACH;FMTTYPE=image/jpeg:https://kentdownsmalling.church/wp-content/uploads/2024/02/R0003165.jpg
END:VEVENT
BEGIN:VEVENT
DTSTART;TZID=Europe/London:20251228T100000
DTEND;TZID=Europe/London:20251228T110000
DTSTAMP:20260421T181532
CREATED:20240617T131358Z
LAST-MODIFIED:20241122T100330Z
UID:10001903-1766916000-1766919600@kentdownsmalling.church
SUMMARY:Open House Communion (Addington)
DESCRIPTION:Open House Communion
URL:https://kentdownsmalling.church/calendar/open-house-worship-10am-2/2025-12-28/
LOCATION:St Margaret’s\, Addington\, Park Road\, Addington\, Kent\, ME19 5BQ\, United Kingdom
CATEGORIES:Addington
ATTACH;FMTTYPE=image/jpeg:https://kentdownsmalling.church/wp-content/uploads/2024/02/R0003165.jpg
END:VEVENT
END:VCALENDAR