BEGIN:VCALENDAR
VERSION:2.0
PRODID:-//Kent Downs and Malling Team - ECPv6.8.2.1//NONSGML v1.0//EN
CALSCALE:GREGORIAN
METHOD:PUBLISH
X-WR-CALNAME:Kent Downs and Malling Team
X-ORIGINAL-URL:https://kentdownsmalling.church
X-WR-CALDESC:Events for Kent Downs and Malling Team
REFRESH-INTERVAL;VALUE=DURATION:PT1H
X-Robots-Tag:noindex
X-PUBLISHED-TTL:PT1H
BEGIN:VTIMEZONE
TZID:Europe/London
BEGIN:DAYLIGHT
TZOFFSETFROM:+0000
TZOFFSETTO:+0100
TZNAME:BST
DTSTART:20240331T010000
END:DAYLIGHT
BEGIN:STANDARD
TZOFFSETFROM:+0100
TZOFFSETTO:+0000
TZNAME:GMT
DTSTART:20241027T010000
END:STANDARD
END:VTIMEZONE
BEGIN:VEVENT
DTSTART;TZID=Europe/London:20241006T080000
DTEND;TZID=Europe/London:20241006T170000
DTSTAMP:20260425T165349
CREATED:20240913T074509Z
LAST-MODIFIED:20250412T054319Z
UID:10004040-1728201600-1728234000@kentdownsmalling.church
SUMMARY:Open House Worship (Addington)
DESCRIPTION:11.00 – St Margaret Addington – Open House Worship
URL:https://kentdownsmalling.church/calendar/1584-2/2024-10-06/1/
LOCATION:St Margaret’s\, Addington\, Park Road\, Addington\, Kent\, ME19 5BQ\, United Kingdom
CATEGORIES:Addington
ATTACH;FMTTYPE=image/jpeg:https://kentdownsmalling.church/wp-content/uploads/2024/02/R0003165.jpg
END:VEVENT
BEGIN:VEVENT
DTSTART;TZID=Europe/London:20241006T110000
DTEND;TZID=Europe/London:20241006T120000
DTSTAMP:20260425T165349
CREATED:20240913T074509Z
LAST-MODIFIED:20250412T054319Z
UID:10000396-1728212400-1728216000@kentdownsmalling.church
SUMMARY:Open House Worship (Addington)
DESCRIPTION:11.00 – St Margaret Addington – Open House Worship
URL:https://kentdownsmalling.church/calendar/1584-2/2024-10-06/2/
LOCATION:St Margaret’s\, Addington\, Park Road\, Addington\, Kent\, ME19 5BQ\, United Kingdom
CATEGORIES:Addington
ATTACH;FMTTYPE=image/jpeg:https://kentdownsmalling.church/wp-content/uploads/2024/02/R0003165.jpg
END:VEVENT
BEGIN:VEVENT
DTSTART;TZID=Europe/London:20241013T100000
DTEND;TZID=Europe/London:20241013T110000
DTSTAMP:20260425T165349
CREATED:20240229T112804Z
LAST-MODIFIED:20241122T100446Z
UID:10000197-1728813600-1728817200@kentdownsmalling.church
SUMMARY:Café Church & Children's Church (Addington)
DESCRIPTION:10.00 – Addington Village Hall – Café Church and Children’s Church
URL:https://kentdownsmalling.church/calendar/mothering-sunday-cafe-church/2024-10-13/
LOCATION:Addington Village Hall\, Park Road\, Addington\, Kent\, ME19 5BQ\, United Kingdom
CATEGORIES:Addington
ATTACH;FMTTYPE=image/jpeg:https://kentdownsmalling.church/wp-content/uploads/2024/02/R0003165.jpg
END:VEVENT
BEGIN:VEVENT
DTSTART;TZID=Europe/London:20241020T100000
DTEND;TZID=Europe/London:20241020T110000
DTSTAMP:20260425T165349
CREATED:20240229T113449Z
LAST-MODIFIED:20241122T100403Z
UID:10000407-1729418400-1729422000@kentdownsmalling.church
SUMMARY:Open House Worship and Children’s Church (Addington)
DESCRIPTION:10.00 – St Margaret Addington – Open House Worship and Children’s Church
URL:https://kentdownsmalling.church/calendar/open-house-worship-and-childrens-church-with-pete-wilson/2024-10-20/
LOCATION:St Margaret’s\, Addington\, Park Road\, Addington\, Kent\, ME19 5BQ\, United Kingdom
CATEGORIES:Addington
ATTACH;FMTTYPE=image/jpeg:https://kentdownsmalling.church/wp-content/uploads/2024/02/R0003165.jpg
END:VEVENT
BEGIN:VEVENT
DTSTART;TZID=Europe/London:20241027T100000
DTEND;TZID=Europe/London:20241027T110000
DTSTAMP:20260425T165349
CREATED:20240617T131358Z
LAST-MODIFIED:20241122T100330Z
UID:10000217-1730023200-1730026800@kentdownsmalling.church
SUMMARY:Open House Communion (Addington)
DESCRIPTION:Open House Communion
URL:https://kentdownsmalling.church/calendar/open-house-worship-10am-2/2024-10-27/
LOCATION:St Margaret’s\, Addington\, Park Road\, Addington\, Kent\, ME19 5BQ\, United Kingdom
CATEGORIES:Addington
ATTACH;FMTTYPE=image/jpeg:https://kentdownsmalling.church/wp-content/uploads/2024/02/R0003165.jpg
END:VEVENT
END:VCALENDAR