BEGIN:VCALENDAR
VERSION:2.0
PRODID:-//Kent Downs and Malling Team - ECPv6.8.2.1//NONSGML v1.0//EN
CALSCALE:GREGORIAN
METHOD:PUBLISH
X-WR-CALNAME:Kent Downs and Malling Team
X-ORIGINAL-URL:https://kentdownsmalling.church
X-WR-CALDESC:Events for Kent Downs and Malling Team
REFRESH-INTERVAL;VALUE=DURATION:PT1H
X-Robots-Tag:noindex
X-PUBLISHED-TTL:PT1H
BEGIN:VTIMEZONE
TZID:Europe/London
BEGIN:DAYLIGHT
TZOFFSETFROM:+0000
TZOFFSETTO:+0100
TZNAME:BST
DTSTART:20240331T010000
END:DAYLIGHT
BEGIN:STANDARD
TZOFFSETFROM:+0100
TZOFFSETTO:+0000
TZNAME:GMT
DTSTART:20241027T010000
END:STANDARD
END:VTIMEZONE
BEGIN:VEVENT
DTSTART;TZID=Europe/London:20241222T080000
DTEND;TZID=Europe/London:20241222T083000
DTSTAMP:20260425T113425
CREATED:20240113T181046Z
LAST-MODIFIED:20250514T085056Z
UID:10003077-1734854400-1734856200@kentdownsmalling.church
SUMMARY:BCP Holy Communion (West Malling)
DESCRIPTION:
URL:https://kentdownsmalling.church/calendar/bcp-hc1-west-malling/2024-12-22/
LOCATION:St Mary’s\, West Malling\, High Street\, West Malling\, Kent\, ME19 6NE\, United Kingdom
CATEGORIES:West Malling
ATTACH;FMTTYPE=image/jpeg:https://kentdownsmalling.church/wp-content/uploads/2024/01/wm.jpg
END:VEVENT
BEGIN:VEVENT
DTSTART;TZID=Europe/London:20241222T080000
DTEND;TZID=Europe/London:20241222T090000
DTSTAMP:20260425T113425
CREATED:20241011T115232Z
LAST-MODIFIED:20241011T115232Z
UID:10000425-1734854400-1734858000@kentdownsmalling.church
SUMMARY:Holy Communion (West Malling)
DESCRIPTION:
URL:https://kentdownsmalling.church/calendar/holy-communion-west-malling-2/
LOCATION:St Mary’s\, West Malling\, High Street\, West Malling\, Kent\, ME19 6NE\, United Kingdom
END:VEVENT
BEGIN:VEVENT
DTSTART;TZID=Europe/London:20241222T091500
DTEND;TZID=Europe/London:20241222T101500
DTSTAMP:20260425T113425
CREATED:20240113T181129Z
LAST-MODIFIED:20250514T084220Z
UID:10003697-1734858900-1734862500@kentdownsmalling.church
SUMMARY:Holy Communion (Offham)
DESCRIPTION:
URL:https://kentdownsmalling.church/calendar/hc2-offham/2024-12-22/
LOCATION:St Michael’s\, Offham\, Church Road\, Offham\, Kent\, ME19 5NY\, United Kingdom
CATEGORIES:Offham
ATTACH;FMTTYPE=image/jpeg:https://kentdownsmalling.church/wp-content/uploads/2024/01/offham.jpg
END:VEVENT
BEGIN:VEVENT
DTSTART;TZID=Europe/London:20241222T093000
DTEND;TZID=Europe/London:20241222T103000
DTSTAMP:20260425T113425
CREATED:20240113T182004Z
LAST-MODIFIED:20241122T101738Z
UID:10000381-1734859800-1734863400@kentdownsmalling.church
SUMMARY:Service of the Word (Trottiscliffe)
DESCRIPTION:Service of the Word
URL:https://kentdownsmalling.church/calendar/sow-trottiscliffe/2024-12-22/
LOCATION:Trottiscliffe Church\, Church Lane\, Trottiscliffe\, Kent\, ME19 5EE\, United Kingdom
CATEGORIES:Trottiscliffe
ATTACH;FMTTYPE=image/jpeg:https://kentdownsmalling.church/wp-content/uploads/2024/01/trottiscliffe.jpg
END:VEVENT
BEGIN:VEVENT
DTSTART;TZID=Europe/London:20241222T100000
DTEND;TZID=Europe/London:20241222T110000
DTSTAMP:20260425T113425
CREATED:20240301T140718Z
LAST-MODIFIED:20250514T084950Z
UID:10000247-1734861600-1734865200@kentdownsmalling.church
SUMMARY:Holy Communion (West Malling)
DESCRIPTION:
URL:https://kentdownsmalling.church/calendar/hc1-west-malling/2024-12-22/
LOCATION:St Mary’s\, West Malling\, High Street\, West Malling\, Kent\, ME19 6NE\, United Kingdom
CATEGORIES:West Malling
ATTACH;FMTTYPE=image/jpeg:https://kentdownsmalling.church/wp-content/uploads/2024/01/wm.jpg
END:VEVENT
BEGIN:VEVENT
DTSTART;TZID=Europe/London:20241222T100000
DTEND;TZID=Europe/London:20241222T110000
DTSTAMP:20260425T113425
CREATED:20240617T131358Z
LAST-MODIFIED:20241122T100330Z
UID:10000219-1734861600-1734865200@kentdownsmalling.church
SUMMARY:Open House Communion (Addington)
DESCRIPTION:Open House Communion
URL:https://kentdownsmalling.church/calendar/open-house-worship-10am-2/2024-12-22/
LOCATION:St Margaret’s\, Addington\, Park Road\, Addington\, Kent\, ME19 5BQ\, United Kingdom
CATEGORIES:Addington
ATTACH;FMTTYPE=image/jpeg:https://kentdownsmalling.church/wp-content/uploads/2024/02/R0003165.jpg
END:VEVENT
BEGIN:VEVENT
DTSTART;TZID=Europe/London:20241222T103000
DTEND;TZID=Europe/London:20241222T113000
DTSTAMP:20260425T113425
CREATED:20240113T181355Z
LAST-MODIFIED:20250514T084724Z
UID:10002248-1734863400-1734867000@kentdownsmalling.church
SUMMARY:Holy Communion (Leybourne)
DESCRIPTION:
URL:https://kentdownsmalling.church/calendar/hc1-leybourne/2024-12-22/
LOCATION:Leybourne Church\, Castle Way\, Leybourne\, Kent\, United Kingdom
CATEGORIES:Leybourne
ATTACH;FMTTYPE=image/jpeg:https://kentdownsmalling.church/wp-content/uploads/2024/01/Ley.jpg
END:VEVENT
BEGIN:VEVENT
DTSTART;TZID=Europe/London:20241222T170000
DTEND;TZID=Europe/London:20241222T180000
DTSTAMP:20260425T113425
CREATED:20241011T114941Z
LAST-MODIFIED:20241011T114941Z
UID:10000424-1734886800-1734890400@kentdownsmalling.church
SUMMARY:Carols (Ryarsh)
DESCRIPTION:
URL:https://kentdownsmalling.church/calendar/carols-ryarsh/
LOCATION:St Martin’s\, Ryarsh\, Church Road\, Ryarsh\, Kent\, ME19 5LB\, United Kingdom
END:VEVENT
BEGIN:VEVENT
DTSTART;TZID=Europe/London:20241222T180000
DTEND;TZID=Europe/London:20241222T190000
DTSTAMP:20260425T113425
CREATED:20241011T115326Z
LAST-MODIFIED:20241011T115326Z
UID:10000426-1734890400-1734894000@kentdownsmalling.church
SUMMARY:Nine lessons & carols
DESCRIPTION:
URL:https://kentdownsmalling.church/calendar/nine-lessons-carols/
LOCATION:St Mary’s\, West Malling\, High Street\, West Malling\, Kent\, ME19 6NE\, United Kingdom
END:VEVENT
END:VCALENDAR